BEGIN:VCALENDAR
VERSION:2.0
PRODID:El Segundo Libraries Calendar Creator
METHOD:PUBLISH
BEGIN:VEVENT
DTSTAMP:20230517T155419
DTSTART:20230704T000000
DTEND:20230704T235900
SUMMARY:Library Closed for Independence Day
DESCRIPTION:In observance of Independence Day the Library will be closed on Tuesday, July 4th.
X-ALT-DESC;FMTTYPE=text/html:In observance of Independence Day the Library will be closed on Tuesday, July 4th.
LOCATION:
CLASS:PUBLIC
END:VEVENT
END:VCALENDAR
