BEGIN:VCALENDAR
VERSION:2.0
PRODID:El Segundo Libraries Calendar Creator
METHOD:PUBLISH
BEGIN:VEVENT
DTSTAMP:20230503T104612
DTSTART:20230417T130000
DTEND:20230417T170000
SUMMARY:City Council Meeting SPECIAL - Budget Study Session
DESCRIPTION:<p style="text-align: center;">AGENDA<br>EL SEGUNDO CITY COUNCIL</p><p style="text-align: center;">SPECIAL MEETING </p><p style="text-align: center;">MONDAY, APRIL 17, 2023</p><p style="text-align: center;">1:00 PM</p><div>&nbsp;</div><p><span style="text-decoration: underline;"><a href="https://www.elsegundolibrary.gov/home/showpublisheddocument/6861/638170782313900000" target="_blank" id="Agenda Packet">2023-04-17 CC Agenda Packet - SPECIAL (Budget Study Session)</a></span></p>
X-ALT-DESC;FMTTYPE=text/html:<p style="text-align: center;">AGENDA<br>EL SEGUNDO CITY COUNCIL</p><p style="text-align: center;">SPECIAL MEETING </p><p style="text-align: center;">MONDAY, APRIL 17, 2023</p><p style="text-align: center;">1:00 PM</p><div>&nbsp;</div><p><span style="text-decoration: underline;"><a href="https://www.elsegundolibrary.gov/home/showpublisheddocument/6861/638170782313900000" target="_blank" id="Agenda Packet">2023-04-17 CC Agenda Packet - SPECIAL (Budget Study Session)</a></span></p>
LOCATION:City Council Chamber\, 350 Main Street El Segundo\, California 90245
CLASS:PUBLIC
END:VEVENT
END:VCALENDAR
