BEGIN:VCALENDAR
VERSION:2.0
PRODID:El Segundo Libraries Calendar Creator
METHOD:PUBLISH
BEGIN:VEVENT
DTSTAMP:20230405T115113
DTSTART:20230425T183000
DTEND:20230425T200000
SUMMARY:South Bay Swing Concert
DESCRIPTION:<p><b>South Bay Swing, </b>a music trio that specializes in popular music<b> </b>from the Great American Song Book, will be featured in the El Segundo Public Library in celebration of National Library Week.&nbsp; The free concert will be presented in the Sue Carter Community Room on Tuesday, April 25 from 6:30 to 8:00pm.</p><p>&nbsp;<b>South Bay Swing</b> has performed widely in the South Bay for the past 15 years.&nbsp; Musicians Roberto Pasquariello on piano and vocals, Jay Stock&nbsp;playing clarinet and trumpeter Corey Gemme will shine a spotlight on compositions from 1900 through the mid-1950s, including jazz standards, show tunes and songs from Hollywood musicals.&nbsp;</p>
X-ALT-DESC;FMTTYPE=text/html:<p><b>South Bay Swing, </b>a music trio that specializes in popular music<b> </b>from the Great American Song Book, will be featured in the El Segundo Public Library in celebration of National Library Week.&nbsp; The free concert will be presented in the Sue Carter Community Room on Tuesday, April 25 from 6:30 to 8:00pm.</p><p>&nbsp;<b>South Bay Swing</b> has performed widely in the South Bay for the past 15 years.&nbsp; Musicians Roberto Pasquariello on piano and vocals, Jay Stock&nbsp;playing clarinet and trumpeter Corey Gemme will shine a spotlight on compositions from 1900 through the mid-1950s, including jazz standards, show tunes and songs from Hollywood musicals.&nbsp;</p>
LOCATION:
CLASS:PUBLIC
END:VEVENT
END:VCALENDAR
