BEGIN:VCALENDAR
VERSION:2.0
PRODID:El Segundo Libraries Calendar Creator
METHOD:PUBLISH
BEGIN:VEVENT
DTSTAMP:20230404T130739
DTSTART:20230413T183000
DTEND:20230413T200000
SUMMARY:ESPL's 2nd Annual Juried Small Works Reception and Exhibition
DESCRIPTION:<p>The El Segundo Public Library is happy to present the Second Annual Juried Small Works reception, which opens the exhibition on Thursday, April 13th.&nbsp; Works will be displayed in the Community Art Exhibition Room.&nbsp; One grand prize and prize ribbons for 1st, 2nd and 3rd place per age group will be given.&nbsp; Light refreshments will be served.</p><p>The artwork can be viewed during the library's open hours through Saturday, May 13th.</p>
X-ALT-DESC;FMTTYPE=text/html:<p>The El Segundo Public Library is happy to present the Second Annual Juried Small Works reception, which opens the exhibition on Thursday, April 13th.&nbsp; Works will be displayed in the Community Art Exhibition Room.&nbsp; One grand prize and prize ribbons for 1st, 2nd and 3rd place per age group will be given.&nbsp; Light refreshments will be served.</p><p>The artwork can be viewed during the library's open hours through Saturday, May 13th.</p>
LOCATION:El Segundo Public Library\, 111 W. Mariposa Avenue El Segundo\, California 90245
CLASS:PUBLIC
END:VEVENT
END:VCALENDAR
