BEGIN:VCALENDAR
VERSION:2.0
PRODID:El Segundo Libraries Calendar Creator
METHOD:PUBLISH
BEGIN:VEVENT
DTSTAMP:20230403T173548
DTSTART:20230425T153000
DTEND:20230425T154500
SUMMARY:Pizza and Poetry Teen Program
DESCRIPTION:<p direction-ltr="" align-center="" para-style-body"="">No registration required. Pizza will be provided!</p><p direction-ltr="" align-center="" para-style-body"="">For <span style="text-decoration-line: underline;">ESHS student</span>s only. Meets at the El Segundo High School Library.</p><p direction-ltr="" align-center="" para-style-body"=""><strong>Extreme Poem Makeover</strong><br>In honor of National Poetry month join us for a fun writing activity with<br>El Segundo Poet Laureate Hope Anita Smith.</p>
X-ALT-DESC;FMTTYPE=text/html:<p direction-ltr="" align-center="" para-style-body"="">No registration required. Pizza will be provided!</p><p direction-ltr="" align-center="" para-style-body"="">For <span style="text-decoration-line: underline;">ESHS student</span>s only. Meets at the El Segundo High School Library.</p><p direction-ltr="" align-center="" para-style-body"=""><strong>Extreme Poem Makeover</strong><br>In honor of National Poetry month join us for a fun writing activity with<br>El Segundo Poet Laureate Hope Anita Smith.</p>
LOCATION:El Segundo High School Library\, 640 Main Street El Segundo\, California 90245
CLASS:PUBLIC
END:VEVENT
END:VCALENDAR
