BEGIN:VCALENDAR
VERSION:2.0
PRODID:El Segundo Libraries Calendar Creator
METHOD:PUBLISH
BEGIN:VEVENT
DTSTAMP:20230403T164000
DTSTART:20230418T153000
DTEND:20230418T170000
SUMMARY:Teen Art Workshop
DESCRIPTION:<p direction-ltr="" align-center="" para-style-body"="">Sue Carter Community Room<br>For Teens 12-17years old.<br>Pizza will be provided!</p><p direction-ltr="" align-center="" para-style-body"="">Teens join artist Jovi Schnell for a fun art workshop.&nbsp;</p><p direction-ltr="" align-center="" para-style-body"="">"A board game that lets teens create a vibrant, immersive mural, using prompts to generate meaningful imagery reflecting a collective Sensory Garden."</p><p direction-ltr="" align-center="" para-style-body"="">Please call 310-524-2799 for more information.</p>
X-ALT-DESC;FMTTYPE=text/html:<p direction-ltr="" align-center="" para-style-body"="">Sue Carter Community Room<br>For Teens 12-17years old.<br>Pizza will be provided!</p><p direction-ltr="" align-center="" para-style-body"="">Teens join artist Jovi Schnell for a fun art workshop.&nbsp;</p><p direction-ltr="" align-center="" para-style-body"="">"A board game that lets teens create a vibrant, immersive mural, using prompts to generate meaningful imagery reflecting a collective Sensory Garden."</p><p direction-ltr="" align-center="" para-style-body"="">Please call 310-524-2799 for more information.</p>
LOCATION:El Segundo Public Library\, 111 W. Mariposa Avenue El Segundo\, California 90245
CLASS:PUBLIC
END:VEVENT
END:VCALENDAR
