BEGIN:VCALENDAR
VERSION:2.0
PRODID:El Segundo Libraries Calendar Creator
METHOD:PUBLISH
BEGIN:VEVENT
DTSTAMP:20241015T114727
DTSTART:20230413T173000
DTEND:20230413T200000
SUMMARY:Planning Commission Meeting Cancelled
DESCRIPTION:<p>The regular City of El Segundo Planning Commission meeting originally scheduled to be held on Thursday, April 13, 2023, at 5:30 p.m. is adjourned. The next Planning Commission Meeting is scheduled for Thursday, April 27, 2023, at 5:30 p.m. in El Segundo City Council Chamber located at 350 Main Street, El Segundo, CA 90245.</p><p>Please click the button below to view the Notice of Adjournment.</p>
X-ALT-DESC;FMTTYPE=text/html:<p>The regular City of El Segundo Planning Commission meeting originally scheduled to be held on Thursday, April 13, 2023, at 5:30 p.m. is adjourned. The next Planning Commission Meeting is scheduled for Thursday, April 27, 2023, at 5:30 p.m. in El Segundo City Council Chamber located at 350 Main Street, El Segundo, CA 90245.</p><p>Please click the button below to view the Notice of Adjournment.</p>
LOCATION:City Council Chamber\, 350 Main Street El Segundo\, California 90245
CLASS:PUBLIC
END:VEVENT
END:VCALENDAR
