BEGIN:VCALENDAR
VERSION:2.0
PRODID:El Segundo Libraries Calendar Creator
METHOD:PUBLISH
BEGIN:VEVENT
DTSTAMP:20230511T164011
DTSTART:20230322T180000
DTEND:20230322T190000
SUMMARY:CIPAC Meeting 03-22-23
DESCRIPTION:REGULAR&nbsp;MEETING OF THE CAPITAL IMPROVEMENT PROGRAM ADVISORY COMMITTEE (CIPAC).&nbsp;
X-ALT-DESC;FMTTYPE=text/html:REGULAR&nbsp;MEETING OF THE CAPITAL IMPROVEMENT PROGRAM ADVISORY COMMITTEE (CIPAC).&nbsp;
LOCATION:HR Conference Room\, 350 Main Street El Segundo\, California 90245
CLASS:PUBLIC
END:VEVENT
END:VCALENDAR
