BEGIN:VCALENDAR
VERSION:2.0
PRODID:El Segundo Libraries Calendar Creator
METHOD:PUBLISH
BEGIN:VEVENT
DTSTAMP:20230309T123051
DTSTART:20230314T180000
DTEND:20230314T190000
SUMMARY:Library Board of Trustees Meeting
DESCRIPTION:<p>The Library Board of Trustees advises the City Council and Director of Recreation, Parks and Library on matters of library policy, administration, operation, and service.&nbsp; Members obtain public input, promote the library within the community, and assist with special initiatives.&nbsp; The Board meets in the Library's Sue Carter Community Room on the second Tuesday of the month in January, March, May, July, September, and November.</p><p>For any questions or additional information, please contact Mark Herbert at 310-524-2732 or email at mherbert@elsegundo.org.</p><p>&nbsp;</p><p><a href="https://www.elsegundolibrary.gov/home/showpublisheddocument/6717/638139596222570000" target="_blank">Minutes</a> from the January 10, 2023 meeting.</p><p><a href="https://www.elsegundolibrary.gov/home/showpublisheddocument/6719/638139596254130000" target="_blank">Minutes</a> from the January 24, 2023 special meeting.</p><p>&nbsp;</p><p>&nbsp;</p>
X-ALT-DESC;FMTTYPE=text/html:<p>The Library Board of Trustees advises the City Council and Director of Recreation, Parks and Library on matters of library policy, administration, operation, and service.&nbsp; Members obtain public input, promote the library within the community, and assist with special initiatives.&nbsp; The Board meets in the Library's Sue Carter Community Room on the second Tuesday of the month in January, March, May, July, September, and November.</p><p>For any questions or additional information, please contact Mark Herbert at 310-524-2732 or email at mherbert@elsegundo.org.</p><p>&nbsp;</p><p><a href="https://www.elsegundolibrary.gov/home/showpublisheddocument/6717/638139596222570000" target="_blank">Minutes</a> from the January 10, 2023 meeting.</p><p><a href="https://www.elsegundolibrary.gov/home/showpublisheddocument/6719/638139596254130000" target="_blank">Minutes</a> from the January 24, 2023 special meeting.</p><p>&nbsp;</p><p>&nbsp;</p>
LOCATION:El Segundo Public Library\, 111 W. Mariposa Avenue El Segundo\, California 90245
CLASS:PUBLIC
END:VEVENT
END:VCALENDAR
