BEGIN:VCALENDAR
VERSION:2.0
PRODID:El Segundo Libraries Calendar Creator
METHOD:PUBLISH
BEGIN:VEVENT
DTSTAMP:20230221T122312
DTSTART:20230223T153000
DTEND:20230223T161500
SUMMARY:The Sunshine Storyteller
DESCRIPTION:<p>Join us in the Sue Carter Community Room as we celebrate Black History Month with Ina Buckner Barnette, The Sunshine Storyteller! In her performance, "Traveling Shoes" families can enjoy songs and biographical tales of famous African Americans who have traveled for love, fame, and fortune. Children of all ages are welcome. Children under age 8 must be accompanied by an adult. For more information please call the Youth Services Desk at 310-524-2726.</p>
X-ALT-DESC;FMTTYPE=text/html:<p>Join us in the Sue Carter Community Room as we celebrate Black History Month with Ina Buckner Barnette, The Sunshine Storyteller! In her performance, "Traveling Shoes" families can enjoy songs and biographical tales of famous African Americans who have traveled for love, fame, and fortune. Children of all ages are welcome. Children under age 8 must be accompanied by an adult. For more information please call the Youth Services Desk at 310-524-2726.</p>
LOCATION:El Segundo Public Library\, 111 W. Mariposa Avenue El Segundo\, California 90245
CLASS:PUBLIC
END:VEVENT
END:VCALENDAR
