BEGIN:VCALENDAR
VERSION:2.0
PRODID:El Segundo Libraries Calendar Creator
METHOD:PUBLISH
BEGIN:VEVENT
DTSTAMP:20230217T091416
DTSTART:20230301T133000
DTEND:20230301T143000
SUMMARY:A Walk in the Park:  Low intensity walking + balance exercise in a social setting
DESCRIPTION:Join Senior Fitness Specialist Ines Bryan and other older adults for this series of low-intensity activity in Library Park (corner of Main Street and Mariposa).&nbsp; Meet at the gazebo.&nbsp; Please bring your own water and wear comfortable walking shoes.&nbsp; No registration required.&nbsp; March 1, March 8, March 22 and March 29.
X-ALT-DESC;FMTTYPE=text/html:Join Senior Fitness Specialist Ines Bryan and other older adults for this series of low-intensity activity in Library Park (corner of Main Street and Mariposa).&nbsp; Meet at the gazebo.&nbsp; Please bring your own water and wear comfortable walking shoes.&nbsp; No registration required.&nbsp; March 1, March 8, March 22 and March 29.
LOCATION:El Segundo Public Library\, 111 W. Mariposa Avenue El Segundo\, California 90245
CLASS:PUBLIC
END:VEVENT
END:VCALENDAR
