BEGIN:VCALENDAR
VERSION:2.0
PRODID:El Segundo Libraries Calendar Creator
METHOD:PUBLISH
BEGIN:VEVENT
DTSTAMP:20230118T120152
DTSTART:20230215T180000
DTEND:20230215T200000
SUMMARY:Drawing Workshop for Adults
DESCRIPTION:<p style="margin-left: 40px;">The El Segundo Public Library presents a Drawing Workshop for Adults led by visual artist Miles Lewis.&nbsp; Miles is part of El Segundo's "Visual Artists in Community Program" and will lead adults in a workshop that teaches how to observe and draw from a live model.&nbsp; All supplies are included in this FREE program.&nbsp; The workshop will take place in the Sue Carter Community Room.&nbsp; The program is funded by the City's Cultural Development Program.</p>
X-ALT-DESC;FMTTYPE=text/html:<p style="margin-left: 40px;">The El Segundo Public Library presents a Drawing Workshop for Adults led by visual artist Miles Lewis.&nbsp; Miles is part of El Segundo's "Visual Artists in Community Program" and will lead adults in a workshop that teaches how to observe and draw from a live model.&nbsp; All supplies are included in this FREE program.&nbsp; The workshop will take place in the Sue Carter Community Room.&nbsp; The program is funded by the City's Cultural Development Program.</p>
LOCATION:El Segundo Public Library\, 111 W. Mariposa Avenue El Segundo\, California 90245
CLASS:PUBLIC
END:VEVENT
END:VCALENDAR
