BEGIN:VCALENDAR
VERSION:2.0
PRODID:El Segundo Libraries Calendar Creator
METHOD:PUBLISH
BEGIN:VEVENT
DTSTAMP:20230407T142420
DTSTART:20230408T093000
DTEND:20230408T110000
SUMMARY:Egg Hunt Eggstravaganza & Camp Expo
DESCRIPTION:<p>Join us on April 8th for some Easter egg hunt activities! The Egg Hunt Eggstravaganza &amp; Camp Expo will take place at Recreation Park from 9:30-11:00am. The Easter Bunny will be available for photos throughout the event. Please call 310-524-2700 with any questions.</p><p></p><p>&nbsp;<iframe src="https://www.youtube.com/embed/FugEbyO06YY" width="400" allowfullscreen="" height="300" frameborder="0"></iframe></p><p>&nbsp;</p>
X-ALT-DESC;FMTTYPE=text/html:<p>Join us on April 8th for some Easter egg hunt activities! The Egg Hunt Eggstravaganza &amp; Camp Expo will take place at Recreation Park from 9:30-11:00am. The Easter Bunny will be available for photos throughout the event. Please call 310-524-2700 with any questions.</p><p></p><p>&nbsp;<iframe src="https://www.youtube.com/embed/FugEbyO06YY" width="400" allowfullscreen="" height="300" frameborder="0"></iframe></p><p>&nbsp;</p>
LOCATION:Recreation Park\, 401 Sheldon Street El Segundo\, California 90245
CLASS:PUBLIC
END:VEVENT
END:VCALENDAR
