BEGIN:VCALENDAR
VERSION:2.0
PRODID:El Segundo Libraries Calendar Creator
METHOD:PUBLISH
BEGIN:VEVENT
DTSTAMP:20230119T110145
DTSTART:20230123T120000
DTEND:20230123T130000
SUMMARY:Craft 'N Chat
DESCRIPTION:<p>Join other adults for the library's crafting social hour.&nbsp; Meetings are on the second and fourth Mondays of the month, from 12 noon-1pm.&nbsp; If you would like more information, please call the reference desk at 310-524-2728.</p><p>&nbsp;</p>
X-ALT-DESC;FMTTYPE=text/html:<p>Join other adults for the library's crafting social hour.&nbsp; Meetings are on the second and fourth Mondays of the month, from 12 noon-1pm.&nbsp; If you would like more information, please call the reference desk at 310-524-2728.</p><p>&nbsp;</p>
LOCATION:El Segundo Public Library\, 111 W. Mariposa Avenue El Segundo\, California 90245
CLASS:PUBLIC
END:VEVENT
END:VCALENDAR
