BEGIN:VCALENDAR
VERSION:2.0
PRODID:El Segundo Libraries Calendar Creator
METHOD:PUBLISH
BEGIN:VEVENT
DTSTAMP:20230105T122846
DTSTART:20230125T100000
DTEND:20230125T102000
SUMMARY:Baby/Toddler Storytime
DESCRIPTION:<p>Fall Storytime in Library Park!</p><p>Bring a blanket and join us weekly for songs, stories and fun!</p><p>Ages 0-2</p><p>*Weather Permitting</p>
X-ALT-DESC;FMTTYPE=text/html:<p>Fall Storytime in Library Park!</p><p>Bring a blanket and join us weekly for songs, stories and fun!</p><p>Ages 0-2</p><p>*Weather Permitting</p>
LOCATION:Library Park\, 600 Block of Main Street El Segundo\, California 90245
CLASS:PUBLIC
END:VEVENT
END:VCALENDAR
