BEGIN:VCALENDAR
VERSION:2.0
PRODID:El Segundo Libraries Calendar Creator
METHOD:PUBLISH
BEGIN:VEVENT
DTSTAMP:20230103T123623
DTSTART:20230119T160000
DTEND:20230119T180000
SUMMARY:Friends of the Library Business Meeting
DESCRIPTION:<p>Members of the Friends of the El Segundo Public Library meet to discuss library-related activities. The business meeting is held on the third Thursday of the month, on a bi-monthly basis--January, March, May, July, September and November. The business meetings are open to the public and everyone is welcome to attend.</p><p>Please note this meeting will be held via Zoom.</p><p>Join Zoom Meeting<br><a href="https://us06web.zoom.us/j/83003848414?pwd=ZUd5akVLUmM4MFYrVElxOGxXaERMQT09" target="_blank">https://us06web.zoom.us/j/83003848414?pwd=ZUd5akVLUmM4MFYrVElxOGxXaERMQT09</a><br><br>Meeting ID: 830 0384 8414<br>Passcode: 361114<br>One tap mobile<br>+16694449171,,83003848414#,,,,*361114# US&nbsp;<br>+12532158782,,83003848414#,,,,*361114# US (Tacoma)<br><br>Dial by your location<br>&nbsp; &nbsp; &nbsp; &nbsp; +1 669 444 9171 US<br>&nbsp; &nbsp; &nbsp; &nbsp; +1 253 215 8782 US (Tacoma)<br>&nbsp; &nbsp; &nbsp; &nbsp; +1 346 248 7799 US (Houston)<br>&nbsp; &nbsp; &nbsp; &nbsp; +1 719 359 4580 US<br>&nbsp; &nbsp; &nbsp; &nbsp; +1 720 707 2699 US (Denver)<br>&nbsp; &nbsp; &nbsp; &nbsp; +1 253 205 0468 US<br>&nbsp; &nbsp; &nbsp; &nbsp; +1 646 558 8656 US (New York)<br>&nbsp; &nbsp; &nbsp; &nbsp; +1 646 931 3860 US<br>&nbsp; &nbsp; &nbsp; &nbsp; +1 689 278 1000 US<br>&nbsp; &nbsp; &nbsp; &nbsp; +1 301 715 8592 US (Washington DC)<br>&nbsp; &nbsp; &nbsp; &nbsp; +1 305 224 1968 US<br>&nbsp; &nbsp; &nbsp; &nbsp; +1 309 205 3325 US<br>&nbsp; &nbsp; &nbsp; &nbsp; +1 312 626 6799 US (Chicago)<br>&nbsp; &nbsp; &nbsp; &nbsp; +1 360 209 5623 US<br>&nbsp; &nbsp; &nbsp; &nbsp; +1 386 347 5053 US<br>&nbsp; &nbsp; &nbsp; &nbsp; +1 507 473 4847 US<br>&nbsp; &nbsp; &nbsp; &nbsp; +1 564 217 2000 US<br>Meeting ID: 830 0384 8414<br>Passcode: 361114<br><div></div><br><div></div></p>
X-ALT-DESC;FMTTYPE=text/html:<p>Members of the Friends of the El Segundo Public Library meet to discuss library-related activities. The business meeting is held on the third Thursday of the month, on a bi-monthly basis--January, March, May, July, September and November. The business meetings are open to the public and everyone is welcome to attend.</p><p>Please note this meeting will be held via Zoom.</p><p>Join Zoom Meeting<br><a href="https://us06web.zoom.us/j/83003848414?pwd=ZUd5akVLUmM4MFYrVElxOGxXaERMQT09" target="_blank">https://us06web.zoom.us/j/83003848414?pwd=ZUd5akVLUmM4MFYrVElxOGxXaERMQT09</a><br><br>Meeting ID: 830 0384 8414<br>Passcode: 361114<br>One tap mobile<br>+16694449171,,83003848414#,,,,*361114# US&nbsp;<br>+12532158782,,83003848414#,,,,*361114# US (Tacoma)<br><br>Dial by your location<br>&nbsp; &nbsp; &nbsp; &nbsp; +1 669 444 9171 US<br>&nbsp; &nbsp; &nbsp; &nbsp; +1 253 215 8782 US (Tacoma)<br>&nbsp; &nbsp; &nbsp; &nbsp; +1 346 248 7799 US (Houston)<br>&nbsp; &nbsp; &nbsp; &nbsp; +1 719 359 4580 US<br>&nbsp; &nbsp; &nbsp; &nbsp; +1 720 707 2699 US (Denver)<br>&nbsp; &nbsp; &nbsp; &nbsp; +1 253 205 0468 US<br>&nbsp; &nbsp; &nbsp; &nbsp; +1 646 558 8656 US (New York)<br>&nbsp; &nbsp; &nbsp; &nbsp; +1 646 931 3860 US<br>&nbsp; &nbsp; &nbsp; &nbsp; +1 689 278 1000 US<br>&nbsp; &nbsp; &nbsp; &nbsp; +1 301 715 8592 US (Washington DC)<br>&nbsp; &nbsp; &nbsp; &nbsp; +1 305 224 1968 US<br>&nbsp; &nbsp; &nbsp; &nbsp; +1 309 205 3325 US<br>&nbsp; &nbsp; &nbsp; &nbsp; +1 312 626 6799 US (Chicago)<br>&nbsp; &nbsp; &nbsp; &nbsp; +1 360 209 5623 US<br>&nbsp; &nbsp; &nbsp; &nbsp; +1 386 347 5053 US<br>&nbsp; &nbsp; &nbsp; &nbsp; +1 507 473 4847 US<br>&nbsp; &nbsp; &nbsp; &nbsp; +1 564 217 2000 US<br>Meeting ID: 830 0384 8414<br>Passcode: 361114<br><div></div><br><div></div></p>
LOCATION:
CLASS:PUBLIC
END:VEVENT
END:VCALENDAR
