BEGIN:VCALENDAR
VERSION:2.0
PRODID:El Segundo Libraries Calendar Creator
METHOD:PUBLISH
BEGIN:VEVENT
DTSTAMP:20230313T142452
DTSTART:20230221T180000
DTEND:20230221T180000
SUMMARY:City Council Meeting
DESCRIPTION:<p style="text-align: center;"><strong>EL SEGUNDO CITY COUNCIL<br>REGULAR MEETING</strong></p><p style="text-align: center;"><strong>TUESDAY, FEBRUARY 21, 2023 at 6:00 PM</strong></p><p style="text-align: center;"><span style="color: rgb(192, 0, 0);">COUNCIL CHAMBER IS OPEN TO THE PUBLIC</span></p><p style="text-align: left;"><span style="color: rgb(0, 0, 0);"><strong>Notice of Adjournment:</strong></span></p><p style="text-align: left;"><span style="color: rgb(0, 0, 0);"><a href="https://www.elsegundolibrary.gov/home/showpublisheddocument/6629/638125889940130000" target="_blank">2023-02-21 CC Agenda - Adjournment</a></span></p><p style="text-align: left;"><span style="color: rgb(0, 0, 0);"><strong>Agenda Packet</strong>:</span></p><p style="text-align: left;"><span style="text-decoration: underline;"><a href="https://www.elsegundolibrary.gov/home/showpublisheddocument/6611/638122253821200000" target="_blank" id="Agenda Packet">2023-02-21 CC Agenda Packet</a></span></p><p style="text-align: left;"><span style="color: rgb(0, 0, 0);"><strong>Public Communications</strong>:</span></p><p style="text-align: left;"><span style="color: rgb(0, 0, 0);"><a href="https://www.elsegundolibrary.gov/home/showpublisheddocument/6589/638118819391700000" target="_blank">2023-02-21 CC Agenda - Public Communication related to Hyperion</a><br><a href="https://www.elsegundolibrary.gov/home/showpublisheddocument/6623/638125826629670000" target="_blank">2023-02-21 CC Agenda - Public Communication related to Hyperion #2</a><br><a href="https://www.elsegundolibrary.gov/home/showpublisheddocument/6625/638125827202030000" target="_blank">2023-02-21 CC Agenda - Public Communication related to Item D14 - Downtown Specific Plan</a></span></p><p style="text-align: left;"><span style="color: rgb(0, 0, 0);"><span style="text-decoration: underline;"><a href="https://www.elsegundolibrary.gov/home/showpublisheddocument/6631/638125924539370000" target="_blank" id="Public Communications">2023-02-21 CC Agenda - Public Communication related to Item E17 - CCB Bylaws/Broadcasting</a></span></span></p><p style="text-align: left;"><span style="color: rgb(0, 0, 0);"><strong>Presentations</strong>:</span></p><p style="text-align: left;"><span style="color: rgb(0, 0, 0);"><a href="https://www.elsegundolibrary.gov/home/showpublisheddocument/6613/638125781497170000" target="_blank">2023-02-21 CC Agenda Packet - PRESENTATION - ITEM C11 - Zoning Code</a><br><a href="https://www.elsegundolibrary.gov/home/showpublisheddocument/6627/638125888554630000" target="_blank">2023-02-21 CC Agenda Packet - PRESENTATION - ITEM D13 - 2022-2023 Mid-Year Budget Review</a><br><a href="https://www.elsegundolibrary.gov/home/showpublisheddocument/6615/638125782091570000" target="_blank">2023-02-21 CC Agenda Packet - PRESENTATION - ITEM D14 - Downtown Specific Plan Update</a><br><a href="https://www.elsegundolibrary.gov/home/showpublisheddocument/6617/638125782639370000" target="_blank">2023-02-21 CC Agenda Packet - PRESENTATION - ITEM D15 - Annual Comprehensive Financial Report</a></span></p><p style="text-align: left;"><strong>Video</strong>:&nbsp;<a href="https://elsegundo.granicus.com/MediaPlayer.php?view_id=10&amp;clip_id=4609" target="_blank">February 21, 2023 City Council Meeting Video</a></p>
X-ALT-DESC;FMTTYPE=text/html:<p style="text-align: center;"><strong>EL SEGUNDO CITY COUNCIL<br>REGULAR MEETING</strong></p><p style="text-align: center;"><strong>TUESDAY, FEBRUARY 21, 2023 at 6:00 PM</strong></p><p style="text-align: center;"><span style="color: rgb(192, 0, 0);">COUNCIL CHAMBER IS OPEN TO THE PUBLIC</span></p><p style="text-align: left;"><span style="color: rgb(0, 0, 0);"><strong>Notice of Adjournment:</strong></span></p><p style="text-align: left;"><span style="color: rgb(0, 0, 0);"><a href="https://www.elsegundolibrary.gov/home/showpublisheddocument/6629/638125889940130000" target="_blank">2023-02-21 CC Agenda - Adjournment</a></span></p><p style="text-align: left;"><span style="color: rgb(0, 0, 0);"><strong>Agenda Packet</strong>:</span></p><p style="text-align: left;"><span style="text-decoration: underline;"><a href="https://www.elsegundolibrary.gov/home/showpublisheddocument/6611/638122253821200000" target="_blank" id="Agenda Packet">2023-02-21 CC Agenda Packet</a></span></p><p style="text-align: left;"><span style="color: rgb(0, 0, 0);"><strong>Public Communications</strong>:</span></p><p style="text-align: left;"><span style="color: rgb(0, 0, 0);"><a href="https://www.elsegundolibrary.gov/home/showpublisheddocument/6589/638118819391700000" target="_blank">2023-02-21 CC Agenda - Public Communication related to Hyperion</a><br><a href="https://www.elsegundolibrary.gov/home/showpublisheddocument/6623/638125826629670000" target="_blank">2023-02-21 CC Agenda - Public Communication related to Hyperion #2</a><br><a href="https://www.elsegundolibrary.gov/home/showpublisheddocument/6625/638125827202030000" target="_blank">2023-02-21 CC Agenda - Public Communication related to Item D14 - Downtown Specific Plan</a></span></p><p style="text-align: left;"><span style="color: rgb(0, 0, 0);"><span style="text-decoration: underline;"><a href="https://www.elsegundolibrary.gov/home/showpublisheddocument/6631/638125924539370000" target="_blank" id="Public Communications">2023-02-21 CC Agenda - Public Communication related to Item E17 - CCB Bylaws/Broadcasting</a></span></span></p><p style="text-align: left;"><span style="color: rgb(0, 0, 0);"><strong>Presentations</strong>:</span></p><p style="text-align: left;"><span style="color: rgb(0, 0, 0);"><a href="https://www.elsegundolibrary.gov/home/showpublisheddocument/6613/638125781497170000" target="_blank">2023-02-21 CC Agenda Packet - PRESENTATION - ITEM C11 - Zoning Code</a><br><a href="https://www.elsegundolibrary.gov/home/showpublisheddocument/6627/638125888554630000" target="_blank">2023-02-21 CC Agenda Packet - PRESENTATION - ITEM D13 - 2022-2023 Mid-Year Budget Review</a><br><a href="https://www.elsegundolibrary.gov/home/showpublisheddocument/6615/638125782091570000" target="_blank">2023-02-21 CC Agenda Packet - PRESENTATION - ITEM D14 - Downtown Specific Plan Update</a><br><a href="https://www.elsegundolibrary.gov/home/showpublisheddocument/6617/638125782639370000" target="_blank">2023-02-21 CC Agenda Packet - PRESENTATION - ITEM D15 - Annual Comprehensive Financial Report</a></span></p><p style="text-align: left;"><strong>Video</strong>:&nbsp;<a href="https://elsegundo.granicus.com/MediaPlayer.php?view_id=10&amp;clip_id=4609" target="_blank">February 21, 2023 City Council Meeting Video</a></p>
LOCATION:City Council Chamber\, 350 Main Street El Segundo\, California 90245
CLASS:PUBLIC
END:VEVENT
END:VCALENDAR
