BEGIN:VCALENDAR
VERSION:2.0
PRODID:El Segundo Libraries Calendar Creator
METHOD:PUBLISH
BEGIN:VEVENT
DTSTAMP:20230222T080747
DTSTART:20230207T180000
DTEND:20230207T180000
SUMMARY:City Council Meeting
DESCRIPTION:<p style="text-align: center;"><strong>EL SEGUNDO CITY COUNCIL<br>REGULAR MEETING</strong></p><p style="text-align: center;"><strong>TUESDAY, FEBRUARY 7, 2023 at 6:00 PM</strong></p><p style="text-align: center;"><span style="color: rgb(255, 0, 0);">COUNCIL CHAMBER IS OPEN TO THE PUBLIC&nbsp;</span><strong style="text-align: left;">&nbsp;</strong></p><p><strong>Agenda Packet</strong>:</p><p><u><a href="https://www.elsegundolibrary.gov/home/showpublisheddocument/6558/638110194740370000" target="_blank" id="Agenda Packet Revised">2023-02-07 CC Agenda Packet (Revised)</a></u></p><p><span style="text-decoration: underline;"><a href="https://www.elsegundolibrary.gov/home/showpublisheddocument/6546/638109492109030000" target="_blank" id="Agenda Packet">2023-02-07 CC Agenda Packet</a></span></p><p><strong>Public Communication</strong>:&nbsp;<br><a href="https://www.elsegundolibrary.gov/home/showpublisheddocument/6492/638101603839970000" target="_blank">2023-02-07 CC Agenda - Public Communication related to Library Park ADA Path</a><br><a href="https://www.elsegundolibrary.gov/home/showpublisheddocument/6500/638101760463030000" target="_blank">2023-02-07 CC Agenda - Public Communication related to Hyperion</a><br><a href="https://www.elsegundolibrary.gov/home/showpublisheddocument/6514/638102629145400000" target="_blank">2023-02-07 CC Agenda - Public Communications related to Hyperion #2</a><br><a href="https://www.elsegundolibrary.gov/home/showpublisheddocument/6524/638104075624170000" target="_blank">2023-02-07 CC Agenda - Public Communication related to Hyperion #3</a><br><a href="https://www.elsegundolibrary.gov/home/showpublisheddocument/6579/638113005271930000" target="_blank">2023-02-07 CC Agenda - Public Communication related to DEI Committee</a>&nbsp;</p><p>&nbsp;</p><p>&nbsp;</p><p>&nbsp;</p><p>&nbsp;</p>
X-ALT-DESC;FMTTYPE=text/html:<p style="text-align: center;"><strong>EL SEGUNDO CITY COUNCIL<br>REGULAR MEETING</strong></p><p style="text-align: center;"><strong>TUESDAY, FEBRUARY 7, 2023 at 6:00 PM</strong></p><p style="text-align: center;"><span style="color: rgb(255, 0, 0);">COUNCIL CHAMBER IS OPEN TO THE PUBLIC&nbsp;</span><strong style="text-align: left;">&nbsp;</strong></p><p><strong>Agenda Packet</strong>:</p><p><u><a href="https://www.elsegundolibrary.gov/home/showpublisheddocument/6558/638110194740370000" target="_blank" id="Agenda Packet Revised">2023-02-07 CC Agenda Packet (Revised)</a></u></p><p><span style="text-decoration: underline;"><a href="https://www.elsegundolibrary.gov/home/showpublisheddocument/6546/638109492109030000" target="_blank" id="Agenda Packet">2023-02-07 CC Agenda Packet</a></span></p><p><strong>Public Communication</strong>:&nbsp;<br><a href="https://www.elsegundolibrary.gov/home/showpublisheddocument/6492/638101603839970000" target="_blank">2023-02-07 CC Agenda - Public Communication related to Library Park ADA Path</a><br><a href="https://www.elsegundolibrary.gov/home/showpublisheddocument/6500/638101760463030000" target="_blank">2023-02-07 CC Agenda - Public Communication related to Hyperion</a><br><a href="https://www.elsegundolibrary.gov/home/showpublisheddocument/6514/638102629145400000" target="_blank">2023-02-07 CC Agenda - Public Communications related to Hyperion #2</a><br><a href="https://www.elsegundolibrary.gov/home/showpublisheddocument/6524/638104075624170000" target="_blank">2023-02-07 CC Agenda - Public Communication related to Hyperion #3</a><br><a href="https://www.elsegundolibrary.gov/home/showpublisheddocument/6579/638113005271930000" target="_blank">2023-02-07 CC Agenda - Public Communication related to DEI Committee</a>&nbsp;</p><p>&nbsp;</p><p>&nbsp;</p><p>&nbsp;</p><p>&nbsp;</p>
LOCATION:City Council Chamber\, 350 Main Street El Segundo\, California 90245
CLASS:PUBLIC
END:VEVENT
END:VCALENDAR
