BEGIN:VCALENDAR
VERSION:2.0
PRODID:El Segundo Libraries Calendar Creator
METHOD:PUBLISH
BEGIN:VEVENT
DTSTAMP:20221215T131444
DTSTART:20221230T100000
DTEND:20230102T210000
SUMMARY:The Library Will Be Closed
DESCRIPTION:In celebration of the New Year's holiday, the Library Will Be Closed from Friday, December 30th through Monday, January 2nd.&nbsp; We will reopen Tuesday, January 3rd at 9:00 a.m.
X-ALT-DESC;FMTTYPE=text/html:In celebration of the New Year's holiday, the Library Will Be Closed from Friday, December 30th through Monday, January 2nd.&nbsp; We will reopen Tuesday, January 3rd at 9:00 a.m.
LOCATION:El Segundo Public Library\, 111 W. Mariposa Avenue El Segundo\, California 90245
CLASS:PUBLIC
END:VEVENT
END:VCALENDAR
