BEGIN:VCALENDAR
VERSION:2.0
PRODID:El Segundo Libraries Calendar Creator
METHOD:PUBLISH
BEGIN:VEVENT
DTSTAMP:20221215T131608
DTSTART:20221223T100000
DTEND:20221226T210000
SUMMARY:The Library Will Be Closed
DESCRIPTION:In celebration of the Christmas holiday, The Library Will Be Closed Friday, December 23rd through Monday, December 26th.&nbsp; We will reopen on Tuesday, December 27th at 9:00 a.m.
X-ALT-DESC;FMTTYPE=text/html:In celebration of the Christmas holiday, The Library Will Be Closed Friday, December 23rd through Monday, December 26th.&nbsp; We will reopen on Tuesday, December 27th at 9:00 a.m.
LOCATION:El Segundo Public Library\, 111 W. Mariposa Avenue El Segundo\, California 90245
CLASS:PUBLIC
END:VEVENT
END:VCALENDAR
