BEGIN:VCALENDAR
VERSION:2.0
PRODID:El Segundo Libraries Calendar Creator
METHOD:PUBLISH
BEGIN:VEVENT
DTSTAMP:20221213T103912
DTSTART:20221219T110000
DTEND:20221219T130000
SUMMARY:The Library Will Be Closed 11:00 a.m. to 1:00 p.m.
DESCRIPTION:Celebrating staff holiday cheer, the Library will be closed from 11:00 a.m. to 1:00 p.m. on Monday, December 19.&nbsp; Library admission and services will be unavailable during this time.&nbsp; We thank you for your patience and wish you happy Holidays!
X-ALT-DESC;FMTTYPE=text/html:Celebrating staff holiday cheer, the Library will be closed from 11:00 a.m. to 1:00 p.m. on Monday, December 19.&nbsp; Library admission and services will be unavailable during this time.&nbsp; We thank you for your patience and wish you happy Holidays!
LOCATION:
CLASS:PUBLIC
END:VEVENT
END:VCALENDAR
