BEGIN:VCALENDAR
VERSION:2.0
PRODID:El Segundo Libraries Calendar Creator
METHOD:PUBLISH
BEGIN:VEVENT
DTSTAMP:20221201T193340
DTSTART:20221206T153000
DTEND:20221206T163000
SUMMARY:Crafteen
DESCRIPTION:<p>Crafteen<br>(Teens 12-17yrs old)<br><br>Join us in the Sue Carter Community Room for a fun afternoon of making crafts!<br>All supplies are included. While supplies last.</p>
X-ALT-DESC;FMTTYPE=text/html:<p>Crafteen<br>(Teens 12-17yrs old)<br><br>Join us in the Sue Carter Community Room for a fun afternoon of making crafts!<br>All supplies are included. While supplies last.</p>
LOCATION:El Segundo Public Library\, 111 W. Mariposa Avenue El Segundo\, California 90245
CLASS:PUBLIC
END:VEVENT
END:VCALENDAR
