BEGIN:VCALENDAR
VERSION:2.0
PRODID:El Segundo Libraries Calendar Creator
METHOD:PUBLISH
BEGIN:VEVENT
DTSTAMP:20221129T131530
DTSTART:20221224T120000
DTEND:20221224T150000
SUMMARY:Christmas Eve Dinner at the Joslyn Center
DESCRIPTION:Join us at the&nbsp;Joslyn&nbsp;Center on Saturday, December 24th for a Holiday&nbsp;Dinner! Staff and volunteers will be serving guests a wonderful holiday meal! For those that are unable to attend, we will also be delivering meals. If you are interested in volunteering or would like to attend the&nbsp;dinner, please call 310-524-2705 to RSVP. Happy Holidays!
X-ALT-DESC;FMTTYPE=text/html:Join us at the&nbsp;Joslyn&nbsp;Center on Saturday, December 24th for a Holiday&nbsp;Dinner! Staff and volunteers will be serving guests a wonderful holiday meal! For those that are unable to attend, we will also be delivering meals. If you are interested in volunteering or would like to attend the&nbsp;dinner, please call 310-524-2705 to RSVP. Happy Holidays!
LOCATION:Joslyn Center\, 339 Sheldon Street El Segundo\, California 90245
CLASS:PUBLIC
END:VEVENT
END:VCALENDAR
