BEGIN:VCALENDAR
VERSION:2.0
PRODID:El Segundo Libraries Calendar Creator
METHOD:PUBLISH
BEGIN:VEVENT
DTSTAMP:20230223T104057
DTSTART:20230225T090000
DTEND:20230225T130000
SUMMARY:THIS EVENT HAS BEEN POSTPONED: Free Paper Shredding, E-Waste & Mulch Event
DESCRIPTION:<p>&nbsp;<span style="color: rgb(255, 0, 0);"><strong>DUE TO WEATHER, THIS EVENT HAS BEEN POSTPONED TO SATURDAY, MARCH 18, 2023 FROM 9 A.M. TO 1 P.M.</strong></span></p><p>&nbsp;<iframe src="https://www.youtube.com/embed/-OomEAnKKlI" width="400" allowfullscreen="" height="300" frameborder="0"></iframe></p><p>EDCO and the City of El Segundo are sponsoring a FREE paper shredding, e-waste collection, and mulch event on&nbsp;Saturday, March 18th, 2023, from 9:00 a.m. – 1:00 p.m.&nbsp;at the&nbsp;El Segundo&nbsp;Maintenance Facility, 150 Illinois Street.</p><p>There will be certified shredding trucks during the event, and all items will be shredded ONSITE! Limited to two banker boxes (10”x12”x15”) per household.</p><p>Unwanted electronics will also be collected including TVs, computer monitors, printers, fax machines, VCRs, etc. However, no household hazardous waste (HHW) material will be accepted.</p><p>Also available will be free mulch for residents (while supplies last). This is a self-serve, self-loading service, so please bring your own cans/bags and shovel. Limit of 3 cans/bags per vehicle. If you plan to haul your mulch in an open truck or trailer, please remember to bring a tarp to cover your material.&nbsp;The event is for El Segundo residents only.</p>
X-ALT-DESC;FMTTYPE=text/html:<p>&nbsp;<span style="color: rgb(255, 0, 0);"><strong>DUE TO WEATHER, THIS EVENT HAS BEEN POSTPONED TO SATURDAY, MARCH 18, 2023 FROM 9 A.M. TO 1 P.M.</strong></span></p><p>&nbsp;<iframe src="https://www.youtube.com/embed/-OomEAnKKlI" width="400" allowfullscreen="" height="300" frameborder="0"></iframe></p><p>EDCO and the City of El Segundo are sponsoring a FREE paper shredding, e-waste collection, and mulch event on&nbsp;Saturday, March 18th, 2023, from 9:00 a.m. – 1:00 p.m.&nbsp;at the&nbsp;El Segundo&nbsp;Maintenance Facility, 150 Illinois Street.</p><p>There will be certified shredding trucks during the event, and all items will be shredded ONSITE! Limited to two banker boxes (10”x12”x15”) per household.</p><p>Unwanted electronics will also be collected including TVs, computer monitors, printers, fax machines, VCRs, etc. However, no household hazardous waste (HHW) material will be accepted.</p><p>Also available will be free mulch for residents (while supplies last). This is a self-serve, self-loading service, so please bring your own cans/bags and shovel. Limit of 3 cans/bags per vehicle. If you plan to haul your mulch in an open truck or trailer, please remember to bring a tarp to cover your material.&nbsp;The event is for El Segundo residents only.</p>
LOCATION:El Segundo Maintenance Facility\, 150 Illinois Street El Segundo\, California 90245
CLASS:PUBLIC
END:VEVENT
END:VCALENDAR
