BEGIN:VCALENDAR
VERSION:2.0
PRODID:El Segundo Libraries Calendar Creator
METHOD:PUBLISH
BEGIN:VEVENT
DTSTAMP:20221031T120443
DTSTART:20221130T183000
DTEND:20221130T193000
SUMMARY:Evening Book Discussion Group
DESCRIPTION:The Grass Dancer by Susan Power is the selected book for November's edition of the library's Evening Book Discussion Group, which will be held in the Community Room.&nbsp; Books are available at the reference desk for check out while supplies last.
X-ALT-DESC;FMTTYPE=text/html:The Grass Dancer by Susan Power is the selected book for November's edition of the library's Evening Book Discussion Group, which will be held in the Community Room.&nbsp; Books are available at the reference desk for check out while supplies last.
LOCATION:El Segundo Public Library\, 111 W. Mariposa Avenue El Segundo\, California 90245
CLASS:PUBLIC
END:VEVENT
END:VCALENDAR
