BEGIN:VCALENDAR
VERSION:2.0
PRODID:El Segundo Libraries Calendar Creator
METHOD:PUBLISH
BEGIN:VEVENT
DTSTAMP:20221102T100008
DTSTART:20221110T160000
DTEND:20221110T173000
SUMMARY:Hyperion Water Reclamation Plant Tour
DESCRIPTION:<p>The Hyperion Water Reclamation Plant staff will host a presentation and tour of the facilities on Thursday, November 10, 2022, from 4:00-5:30 p.m. Due to capacity constraints, the tour will only be available to the first 25 people that RSVP. Please email <a href="mailto:&#76;&#65;&#83;&#65;&#78;&#46;&#67;&#108;&#101;&#97;&#110;&#87;&#97;&#116;&#101;&#114;&#46;&#79;&#117;&#116;&#114;&#101;&#97;&#99;&#104;&#64;&#108;&#97;&#99;&#105;&#116;&#121;&#46;&#111;&#114;&#103;">LASAN.CleanWater.Outreach@lacity.org</a> to sign up. Light refreshments will be provided.</p><p>The El Segundo Citizens Forum will resume in January 2023.</p>If you have any questions, please contact the Community Outreach Team at (213) 485-3221, or at <a href="mailto:&#76;&#65;&#83;&#65;&#78;&#46;&#67;&#108;&#101;&#97;&#110;&#87;&#97;&#116;&#101;&#114;&#46;&#79;&#117;&#116;&#114;&#101;&#97;&#99;&#104;&#64;&#108;&#97;&#99;&#105;&#116;&#121;&#46;&#111;&#114;&#103;">LASAN.CleanWater.Outreach@lacity.org</a>.
X-ALT-DESC;FMTTYPE=text/html:<p>The Hyperion Water Reclamation Plant staff will host a presentation and tour of the facilities on Thursday, November 10, 2022, from 4:00-5:30 p.m. Due to capacity constraints, the tour will only be available to the first 25 people that RSVP. Please email <a href="mailto:&#76;&#65;&#83;&#65;&#78;&#46;&#67;&#108;&#101;&#97;&#110;&#87;&#97;&#116;&#101;&#114;&#46;&#79;&#117;&#116;&#114;&#101;&#97;&#99;&#104;&#64;&#108;&#97;&#99;&#105;&#116;&#121;&#46;&#111;&#114;&#103;">LASAN.CleanWater.Outreach@lacity.org</a> to sign up. Light refreshments will be provided.</p><p>The El Segundo Citizens Forum will resume in January 2023.</p>If you have any questions, please contact the Community Outreach Team at (213) 485-3221, or at <a href="mailto:&#76;&#65;&#83;&#65;&#78;&#46;&#67;&#108;&#101;&#97;&#110;&#87;&#97;&#116;&#101;&#114;&#46;&#79;&#117;&#116;&#114;&#101;&#97;&#99;&#104;&#64;&#108;&#97;&#99;&#105;&#116;&#121;&#46;&#111;&#114;&#103;">LASAN.CleanWater.Outreach@lacity.org</a>.
LOCATION:
CLASS:PUBLIC
END:VEVENT
END:VCALENDAR
