BEGIN:VCALENDAR
VERSION:2.0
PRODID:El Segundo Libraries Calendar Creator
METHOD:PUBLISH
BEGIN:VEVENT
DTSTAMP:20221018T121728
DTSTART:20221105T100000
DTEND:20221105T190000
SUMMARY:Election
DESCRIPTION:<p style="text-align: center;"><strong>Vote-In-Person<br>El Segundo Teen Center</strong><br>405 E. Grand Ave.</p><p style="text-align: center;">November 5th - 7th: 10AM - 7PM<br>November 8th: 7AM - 8 PM</p><p style="text-align: left;">Vote-by-Mail Drop Box located on the corner of Holly and Main</p>
X-ALT-DESC;FMTTYPE=text/html:<p style="text-align: center;"><strong>Vote-In-Person<br>El Segundo Teen Center</strong><br>405 E. Grand Ave.</p><p style="text-align: center;">November 5th - 7th: 10AM - 7PM<br>November 8th: 7AM - 8 PM</p><p style="text-align: left;">Vote-by-Mail Drop Box located on the corner of Holly and Main</p>
LOCATION:El Segundo Teen Center\, 405 E. Grand Avenue El Segundo\, California 90245
CLASS:PUBLIC
END:VEVENT
END:VCALENDAR
