BEGIN:VCALENDAR
VERSION:2.0
PRODID:El Segundo Libraries Calendar Creator
METHOD:PUBLISH
BEGIN:VEVENT
DTSTAMP:20221026T160815
DTSTART:20221110T173000
DTEND:20221110T190000
SUMMARY:Downtown Specific Plan Update meeting
DESCRIPTION:<p><span style="color: rgb(0, 25, 58); font-size: 25.2px; font-weight: 600;">Join us for a conversation about the Downtown Specific Plan!</span></p><p align="left">&nbsp;Those wishing to participate in this meeting can attend in person or via Zoom using the login information below.&nbsp;Check out the community workshop flyer&nbsp;<a href="https://www.elsegundo.org/home/showdocument?id=6100" target="_blank">here</a></p><h3 align="left">When:&nbsp;</h3><p align="left">Thursday, November 10th, 2022 at 5:30 p.m. - 7:00 p.m.&nbsp;</p><h3 align="left">Where:&nbsp;</h3><p align="left">In person at: City Council Chambers, 350 Main Street, El Segundo</p><h3 align="left">Virtual (Zoom) Access:&nbsp;</h3><p align="left"><a href="https://us06web.zoom.us/j/82249418323?pwd=L2RRZCt2RGVlRFYvUHdrVWZEOFJoUT09&amp;utm_medium=email&amp;utm_source=govdelivery">https://us06web.zoom.us/j/82249418323?pwd=L2RRZCt2RGVlRFYvUHdrVWZEOFJoUT09</a></p><p align="left">Meeting ID: 822 4941 8323</p><p align="left">Passcode: 923655</p><p align="left">Dial In: +1 669 444 9171</p>
X-ALT-DESC;FMTTYPE=text/html:<p><span style="color: rgb(0, 25, 58); font-size: 25.2px; font-weight: 600;">Join us for a conversation about the Downtown Specific Plan!</span></p><p align="left">&nbsp;Those wishing to participate in this meeting can attend in person or via Zoom using the login information below.&nbsp;Check out the community workshop flyer&nbsp;<a href="https://www.elsegundo.org/home/showdocument?id=6100" target="_blank">here</a></p><h3 align="left">When:&nbsp;</h3><p align="left">Thursday, November 10th, 2022 at 5:30 p.m. - 7:00 p.m.&nbsp;</p><h3 align="left">Where:&nbsp;</h3><p align="left">In person at: City Council Chambers, 350 Main Street, El Segundo</p><h3 align="left">Virtual (Zoom) Access:&nbsp;</h3><p align="left"><a href="https://us06web.zoom.us/j/82249418323?pwd=L2RRZCt2RGVlRFYvUHdrVWZEOFJoUT09&amp;utm_medium=email&amp;utm_source=govdelivery">https://us06web.zoom.us/j/82249418323?pwd=L2RRZCt2RGVlRFYvUHdrVWZEOFJoUT09</a></p><p align="left">Meeting ID: 822 4941 8323</p><p align="left">Passcode: 923655</p><p align="left">Dial In: +1 669 444 9171</p>
LOCATION:City Council Chamber\, 350 Main Street El Segundo\, California 90245
CLASS:PUBLIC
END:VEVENT
END:VCALENDAR
