BEGIN:VCALENDAR
VERSION:2.0
PRODID:El Segundo Libraries Calendar Creator
METHOD:PUBLISH
BEGIN:VEVENT
DTSTAMP:20221102T095930
DTSTART:20221105T110000
DTEND:20221105T120000
SUMMARY:Celebrate National Native American Heritage Month
DESCRIPTION:Indigenous recording and performing artists Shelley Morningsong and Fabian Fontenelle will captivate you through song, dance and storytelling, which honors their native cultures and traditions of Zuni/Omaha and Cheyenne. Read all the <a href="https://lnks.gd/2/x8qTqp" target="_blank">details here</a>.&nbsp;
X-ALT-DESC;FMTTYPE=text/html:Indigenous recording and performing artists Shelley Morningsong and Fabian Fontenelle will captivate you through song, dance and storytelling, which honors their native cultures and traditions of Zuni/Omaha and Cheyenne. Read all the <a href="https://lnks.gd/2/x8qTqp" target="_blank">details here</a>.&nbsp;
LOCATION:Library Park\, 600 Block of Main Street El Segundo\, California 90245
CLASS:PUBLIC
END:VEVENT
END:VCALENDAR
