BEGIN:VCALENDAR
VERSION:2.0
PRODID:El Segundo Libraries Calendar Creator
METHOD:PUBLISH
BEGIN:VEVENT
DTSTAMP:20221018T123506
DTSTART:20221029T120000
DTEND:20221029T170000
SUMMARY:Halloween Frolic
DESCRIPTION:<p>Time to Pumpkin Spice things up! The City of El Segundo’s annual Halloween Frolic will be taking place on Saturday, October 29<sup>th</sup>&nbsp;from 12:00 p.m. to 5:00 p.m. on the 300 and 400 block of Main Street in Downtown El Segundo. The event features unlimited bouncer, obstacle courses, and games for $10. Presale wristbands are available for purchase at the Clubhouse or the Joslyn Center from October 12<sup>th</sup> through October 30<sup>th</sup> for $8!&nbsp;Wristbands will be $10 day of event.</p><p>&nbsp;</p><p>The Kiwanis Club will be helping judge this year’s Costume Contest which will take place at the City Hall Plaza at 12:30 p.m. Categories are Under 2 years, 3-4 years, 5-6 years, 7-8 years, 9-10 years, 11-13 years, 14-17 years, 18 years+, and Group Costume. The El Segundo Women’s Club will also be hosting the annual Pumpkin Contest. Decorate your pumpkin any way you’d like and enter the contest at the El Segundo Women’s Club booth near City Hall by 12:50 p.m. Categories for the Pumpkin Contest are Most Original, Scariest, Funniest, and Best Overall.</p><p>For more information, call 310-524-2700.</p>
X-ALT-DESC;FMTTYPE=text/html:<p>Time to Pumpkin Spice things up! The City of El Segundo’s annual Halloween Frolic will be taking place on Saturday, October 29<sup>th</sup>&nbsp;from 12:00 p.m. to 5:00 p.m. on the 300 and 400 block of Main Street in Downtown El Segundo. The event features unlimited bouncer, obstacle courses, and games for $10. Presale wristbands are available for purchase at the Clubhouse or the Joslyn Center from October 12<sup>th</sup> through October 30<sup>th</sup> for $8!&nbsp;Wristbands will be $10 day of event.</p><p>&nbsp;</p><p>The Kiwanis Club will be helping judge this year’s Costume Contest which will take place at the City Hall Plaza at 12:30 p.m. Categories are Under 2 years, 3-4 years, 5-6 years, 7-8 years, 9-10 years, 11-13 years, 14-17 years, 18 years+, and Group Costume. The El Segundo Women’s Club will also be hosting the annual Pumpkin Contest. Decorate your pumpkin any way you’d like and enter the contest at the El Segundo Women’s Club booth near City Hall by 12:50 p.m. Categories for the Pumpkin Contest are Most Original, Scariest, Funniest, and Best Overall.</p><p>For more information, call 310-524-2700.</p>
LOCATION:El Segundo City Hall\, 350 Main Street El Segundo\, California 90245
CLASS:PUBLIC
END:VEVENT
END:VCALENDAR
