BEGIN:VCALENDAR
VERSION:2.0
PRODID:El Segundo Libraries Calendar Creator
METHOD:PUBLISH
BEGIN:VEVENT
DTSTAMP:20220920T120320
DTSTART:20221026T153000
DTEND:20221026T163000
SUMMARY:Kid's Club
DESCRIPTION:<p>&nbsp;For Kids 5-12yrs old</p><p>Join your friends for fun staff led activities, a different activity each week!</p><p direction-ltr="" align-center="" para-style-body"="">Children under 8 must be accompanied by an adult.</p><p direction-ltr="" align-center="" para-style-body"="">Please bring a blanket for your comfort.</p>
X-ALT-DESC;FMTTYPE=text/html:<p>&nbsp;For Kids 5-12yrs old</p><p>Join your friends for fun staff led activities, a different activity each week!</p><p direction-ltr="" align-center="" para-style-body"="">Children under 8 must be accompanied by an adult.</p><p direction-ltr="" align-center="" para-style-body"="">Please bring a blanket for your comfort.</p>
LOCATION:Library Park\, 600 Block of Main Street El Segundo\, California 90245
CLASS:PUBLIC
END:VEVENT
END:VCALENDAR
