BEGIN:VCALENDAR
VERSION:2.0
PRODID:El Segundo Libraries Calendar Creator
METHOD:PUBLISH
BEGIN:VEVENT
DTSTAMP:20220926T082215
DTSTART:20221005T133000
DTEND:20221005T143000
SUMMARY:A Walk in the Park
DESCRIPTION:Join fitness instructor Ines and fitness nurse Carol Hahn for low-intensity walking and balance exercises&nbsp;in Library Park.&nbsp; Meet at the gazebo.
X-ALT-DESC;FMTTYPE=text/html:Join fitness instructor Ines and fitness nurse Carol Hahn for low-intensity walking and balance exercises&nbsp;in Library Park.&nbsp; Meet at the gazebo.
LOCATION:Library Park\, 600 Block of Main Street El Segundo\, California 90245
CLASS:PUBLIC
END:VEVENT
END:VCALENDAR
