BEGIN:VCALENDAR
VERSION:2.0
PRODID:El Segundo Libraries Calendar Creator
METHOD:PUBLISH
BEGIN:VEVENT
DTSTAMP:20221021T180034
DTSTART:20221022T110000
DTEND:20221022T122500
SUMMARY:Howl-O-Ween!  K-9 Costume Parade in Library Park
DESCRIPTION:<p>&nbsp;<iframe src="https://www.youtube.com/embed/zyoVOpVaPE8" width="400" allowfullscreen="" height="300" frameborder="0"></iframe></p><p>Join us in Library Park for a tail wagging good time!&nbsp; </p><p align="left">South Bay community members will parade their pups through Library Park to show off their furry friend's costume. Categories include small, medium and large dogs.&nbsp;Each category of dog size has their own parade time.&nbsp;Award categories include funniest, scariest, fanciest, most creative, and one "Best-in- Show."</p><p align="left">Howl-O-Ween is a collaboration between the El Segundo Public Library and the El Segundo Police Department.&nbsp;Local Wags-n-Whiskers sponsored the event and is providing prizes for the winners.&nbsp;</p><p align="left">Saturday, October 22<sup>nd</sup>&nbsp;</p><ul>    <li>11:00 a.m. Small Dogs Check-In + Line-Up</li>    <li>11:15 a.m. Small Dogs Parade</li>    <li>11:35 a.m. Medium Dogs Check-In + Line-UP</li>    <li>11:50 a.m. Medium Dogs Parade</li>    <li>12:10 a.m. Large Dogs Check-In + Line-Up</li>    <li>12:25 a.m. Large Dogs Parade</li></ul><p align="left">El Segundo Library Park located at 600 Main Street El Segundo, California 90245</p><p></p><p>&nbsp;</p>
X-ALT-DESC;FMTTYPE=text/html:<p>&nbsp;<iframe src="https://www.youtube.com/embed/zyoVOpVaPE8" width="400" allowfullscreen="" height="300" frameborder="0"></iframe></p><p>Join us in Library Park for a tail wagging good time!&nbsp; </p><p align="left">South Bay community members will parade their pups through Library Park to show off their furry friend's costume. Categories include small, medium and large dogs.&nbsp;Each category of dog size has their own parade time.&nbsp;Award categories include funniest, scariest, fanciest, most creative, and one "Best-in- Show."</p><p align="left">Howl-O-Ween is a collaboration between the El Segundo Public Library and the El Segundo Police Department.&nbsp;Local Wags-n-Whiskers sponsored the event and is providing prizes for the winners.&nbsp;</p><p align="left">Saturday, October 22<sup>nd</sup>&nbsp;</p><ul>    <li>11:00 a.m. Small Dogs Check-In + Line-Up</li>    <li>11:15 a.m. Small Dogs Parade</li>    <li>11:35 a.m. Medium Dogs Check-In + Line-UP</li>    <li>11:50 a.m. Medium Dogs Parade</li>    <li>12:10 a.m. Large Dogs Check-In + Line-Up</li>    <li>12:25 a.m. Large Dogs Parade</li></ul><p align="left">El Segundo Library Park located at 600 Main Street El Segundo, California 90245</p><p></p><p>&nbsp;</p>
LOCATION:Library Park\, 600 Block of Main Street El Segundo\, California 90245
CLASS:PUBLIC
END:VEVENT
END:VCALENDAR
