BEGIN:VCALENDAR
VERSION:2.0
PRODID:El Segundo Libraries Calendar Creator
METHOD:PUBLISH
BEGIN:VEVENT
DTSTAMP:20220920T100152
DTSTART:20220922T153000
DTEND:20220922T173000
SUMMARY:Art Workshop with Artist Stephen Holman
DESCRIPTION:<p>Thursday, September 22nd<br>3:30PM-5:30PM<br>Sue Carter Community Room<br>Teens And Adults</p><p direction-ltr="" align-center="" para-style-body"="">Join us for a fun art workshop with artist Stephen Holman! </p><p direction-ltr="" align-center="" para-style-body"="">Using prisma colored pencils we will be creating pet portraits. you are welcome to bring photos of your pet printed out or on your phone to make a portrait. All Supplies included. All skill levels welcome.</p><p direction-ltr="" align-center="" para-style-body"="">&nbsp;</p><p direction-ltr="" align-center="" para-style-body"="">Please stop by the Adult reference desk or call 310-524-2728 to sign up</p>
X-ALT-DESC;FMTTYPE=text/html:<p>Thursday, September 22nd<br>3:30PM-5:30PM<br>Sue Carter Community Room<br>Teens And Adults</p><p direction-ltr="" align-center="" para-style-body"="">Join us for a fun art workshop with artist Stephen Holman! </p><p direction-ltr="" align-center="" para-style-body"="">Using prisma colored pencils we will be creating pet portraits. you are welcome to bring photos of your pet printed out or on your phone to make a portrait. All Supplies included. All skill levels welcome.</p><p direction-ltr="" align-center="" para-style-body"="">&nbsp;</p><p direction-ltr="" align-center="" para-style-body"="">Please stop by the Adult reference desk or call 310-524-2728 to sign up</p>
LOCATION:El Segundo Public Library\, 111 W. Mariposa Avenue El Segundo\, California 90245
CLASS:PUBLIC
END:VEVENT
END:VCALENDAR
