BEGIN:VCALENDAR
VERSION:2.0
PRODID:El Segundo Libraries Calendar Creator
METHOD:PUBLISH
BEGIN:VEVENT
DTSTAMP:20220916T112542
DTSTART:20220924T090000
DTEND:20220924T160000
SUMMARY:Main Street Fair - Saturday, September 24th
DESCRIPTION:<p align="justify"><iframe src="https://www.youtube.com/embed/PqxHXRsUJPI" width="400" allowfullscreen="" height="300" frameborder="0"></iframe></p><p align="justify"><span style="text-align: left;">The Main St. Fair, an outdoor celebration covering five city blocks with 120+ booths for artisans, designers, photographers, food, and live music, is set for Saturday,&nbsp;September 24</span><sup style="text-align: left;">th</sup><span style="text-align: left;">&nbsp;from 9:00 a.m. - 5:00 p.m. The fair is a 30-year-old local tradition that brings together school groups, non-profits, sports teams, local eateries, and more than 3,000 community members to enjoy fun in the sun on the streets of downtown El Segundo.</span></p><p align="justify">The Main Street Fair is produced by the El Segundo Kiwanis Club and is a fundraiser beneﬁting children’s needs throughout El Segundo and the South Bay. Check out all the details on the Kiwanis&nbsp;<a href="https://elsegundokiwanis.org/main-street-fair-1?utm_medium=email&amp;utm_source=govdelivery" target="_blank" rel="noopener">website</a>!&nbsp;&nbsp;</p>
X-ALT-DESC;FMTTYPE=text/html:<p align="justify"><iframe src="https://www.youtube.com/embed/PqxHXRsUJPI" width="400" allowfullscreen="" height="300" frameborder="0"></iframe></p><p align="justify"><span style="text-align: left;">The Main St. Fair, an outdoor celebration covering five city blocks with 120+ booths for artisans, designers, photographers, food, and live music, is set for Saturday,&nbsp;September 24</span><sup style="text-align: left;">th</sup><span style="text-align: left;">&nbsp;from 9:00 a.m. - 5:00 p.m. The fair is a 30-year-old local tradition that brings together school groups, non-profits, sports teams, local eateries, and more than 3,000 community members to enjoy fun in the sun on the streets of downtown El Segundo.</span></p><p align="justify">The Main Street Fair is produced by the El Segundo Kiwanis Club and is a fundraiser beneﬁting children’s needs throughout El Segundo and the South Bay. Check out all the details on the Kiwanis&nbsp;<a href="https://elsegundokiwanis.org/main-street-fair-1?utm_medium=email&amp;utm_source=govdelivery" target="_blank" rel="noopener">website</a>!&nbsp;&nbsp;</p>
LOCATION:
CLASS:PUBLIC
END:VEVENT
END:VCALENDAR
