BEGIN:VCALENDAR
VERSION:2.0
PRODID:El Segundo Libraries Calendar Creator
METHOD:PUBLISH
BEGIN:VEVENT
DTSTAMP:20220926T082130
DTSTART:20220928T183000
DTEND:20220928T193000
SUMMARY:Evening Book Discussion Group
DESCRIPTION:The library's Evening Book Discussion Group returns to an in person meeting in the Community Room.&nbsp; This month's book is "Iona Iverson's Rules for Commuting" by Clare Pooley.&nbsp; Copies are available at the reference desk for check-out while supplies last.&nbsp; You can call for more information at 310-524-2728.
X-ALT-DESC;FMTTYPE=text/html:The library's Evening Book Discussion Group returns to an in person meeting in the Community Room.&nbsp; This month's book is "Iona Iverson's Rules for Commuting" by Clare Pooley.&nbsp; Copies are available at the reference desk for check-out while supplies last.&nbsp; You can call for more information at 310-524-2728.
LOCATION:El Segundo Public Library\, 111 W. Mariposa Avenue El Segundo\, California 90245
CLASS:PUBLIC
END:VEVENT
END:VCALENDAR
