BEGIN:VCALENDAR
VERSION:2.0
PRODID:El Segundo Libraries Calendar Creator
METHOD:PUBLISH
BEGIN:VEVENT
DTSTAMP:20220906T135047
DTSTART:20220906T153000
DTEND:20220906T163000
SUMMARY:Crafteen - CANCELLED
DESCRIPTION:<p>&nbsp;*CANCELLED*</p><p>&nbsp;Crafteen</p><p>(Teens 12-17yrs)<br><br>Join us in the Sue Carter Community Room for a fun afternoon of making crafts!<br>All supplies are included.&nbsp;</p>
X-ALT-DESC;FMTTYPE=text/html:<p>&nbsp;*CANCELLED*</p><p>&nbsp;Crafteen</p><p>(Teens 12-17yrs)<br><br>Join us in the Sue Carter Community Room for a fun afternoon of making crafts!<br>All supplies are included.&nbsp;</p>
LOCATION:El Segundo Public Library\, 111 W. Mariposa Avenue El Segundo\, California 90245
CLASS:PUBLIC
END:VEVENT
END:VCALENDAR
