BEGIN:VCALENDAR
VERSION:2.0
PRODID:El Segundo Libraries Calendar Creator
METHOD:PUBLISH
BEGIN:VEVENT
DTSTAMP:20220824T155057
DTSTART:20220825T180000
DTEND:20220825T193000
SUMMARY:Summertime, Summertime Art Exhibition Reception
DESCRIPTION:"Summertime, Summertime: A Community Juried Art Exhibition" will celebrate its opening with a public reception in the Reading Lounge in the library.&nbsp; "Best in Show: Dog Portraits by Stephen Holman" will also be on view for the community's enjoyment.
X-ALT-DESC;FMTTYPE=text/html:"Summertime, Summertime: A Community Juried Art Exhibition" will celebrate its opening with a public reception in the Reading Lounge in the library.&nbsp; "Best in Show: Dog Portraits by Stephen Holman" will also be on view for the community's enjoyment.
LOCATION:El Segundo Public Library\, 111 W. Mariposa Avenue El Segundo\, California 90245
CLASS:PUBLIC
END:VEVENT
END:VCALENDAR
