BEGIN:VCALENDAR
VERSION:2.0
PRODID:El Segundo Libraries Calendar Creator
METHOD:PUBLISH
BEGIN:VEVENT
DTSTAMP:20220805T154119
DTSTART:20220820T100000
DTEND:20220820T150000
SUMMARY:Main Street Car Show
DESCRIPTION:<p>&nbsp;<iframe src="https://www.youtube.com/embed/T7MnXRWWjII" width="400" allowfullscreen="" height="300" frameborder="0"></iframe></p><p>The El Chamber of Commerce in partnership with the El Segundo Police Officers Association and the Zimmerman Automobile Driving Museum will host the Main Street Car Show on August 20th&nbsp;from 10:00 a.m. - 3:00 p.m. There will be cars, live music, food and breweries. For more info, visit the Chamber's website&nbsp;<a href="https://www.elsegundochamber.com/?utm_medium=email&amp;utm_source=govdelivery" target="_blank" rel="noopener">here</a>.&nbsp;</p>
X-ALT-DESC;FMTTYPE=text/html:<p>&nbsp;<iframe src="https://www.youtube.com/embed/T7MnXRWWjII" width="400" allowfullscreen="" height="300" frameborder="0"></iframe></p><p>The El Chamber of Commerce in partnership with the El Segundo Police Officers Association and the Zimmerman Automobile Driving Museum will host the Main Street Car Show on August 20th&nbsp;from 10:00 a.m. - 3:00 p.m. There will be cars, live music, food and breweries. For more info, visit the Chamber's website&nbsp;<a href="https://www.elsegundochamber.com/?utm_medium=email&amp;utm_source=govdelivery" target="_blank" rel="noopener">here</a>.&nbsp;</p>
LOCATION:Main Street\, 
CLASS:PUBLIC
END:VEVENT
END:VCALENDAR
