BEGIN:VCALENDAR
VERSION:2.0
PRODID:El Segundo Libraries Calendar Creator
METHOD:PUBLISH
BEGIN:VEVENT
DTSTAMP:20220817T072451
DTSTART:20220818T180000
DTEND:20220818T200000
SUMMARY:Finding Nemo Family Movie Night
DESCRIPTION:<p direction-ltr="" align-center="" para-style-body"=""><strong>Interactive Finding Nemo</strong></p><p direction-ltr="" align-center="" para-style-body"="">Join us for a special screening of Finding Nemo! </p><p direction-ltr="" align-center="" para-style-body"="">We will have goodies &amp; special prop bags that make you part of the action. While supplies last. Afterward join us for a fun scavenger hunt to help us find Dory!</p><p direction-ltr="" align-center="" para-style-body"="">Children under 8 must be accompanied by an adult.</p><p direction-ltr="" align-center="" para-style-body"="">No registration required. Movie is rated G.</p>
X-ALT-DESC;FMTTYPE=text/html:<p direction-ltr="" align-center="" para-style-body"=""><strong>Interactive Finding Nemo</strong></p><p direction-ltr="" align-center="" para-style-body"="">Join us for a special screening of Finding Nemo! </p><p direction-ltr="" align-center="" para-style-body"="">We will have goodies &amp; special prop bags that make you part of the action. While supplies last. Afterward join us for a fun scavenger hunt to help us find Dory!</p><p direction-ltr="" align-center="" para-style-body"="">Children under 8 must be accompanied by an adult.</p><p direction-ltr="" align-center="" para-style-body"="">No registration required. Movie is rated G.</p>
LOCATION:El Segundo Public Library\, 111 W. Mariposa Avenue El Segundo\, California 90245
CLASS:PUBLIC
END:VEVENT
END:VCALENDAR
