BEGIN:VCALENDAR
VERSION:2.0
PRODID:El Segundo Libraries Calendar Creator
METHOD:PUBLISH
BEGIN:VEVENT
DTSTAMP:20220830T164946
DTSTART:20220926T120000
DTEND:20220926T130000
SUMMARY:Craft 'N Chat
DESCRIPTION:<p>Join other adults for the library's crafting social hour.&nbsp; Meetings are on the second and fourth Mondays of the month, from 12 noon-1pm.&nbsp; &nbsp;Nostalgic mini scrapbooks will be featured --- supplies are provided, but if you would like to bring small photos of your own, you are welcome to do so.</p><p>If you would like more information, please call the reference desk at 310-524-2728.</p>
X-ALT-DESC;FMTTYPE=text/html:<p>Join other adults for the library's crafting social hour.&nbsp; Meetings are on the second and fourth Mondays of the month, from 12 noon-1pm.&nbsp; &nbsp;Nostalgic mini scrapbooks will be featured --- supplies are provided, but if you would like to bring small photos of your own, you are welcome to do so.</p><p>If you would like more information, please call the reference desk at 310-524-2728.</p>
LOCATION:
CLASS:PUBLIC
END:VEVENT
END:VCALENDAR
