BEGIN:VCALENDAR
VERSION:2.0
PRODID:El Segundo Libraries Calendar Creator
METHOD:PUBLISH
BEGIN:VEVENT
DTSTAMP:20220830T164741
DTSTART:20220912T120000
DTEND:20220912T130000
SUMMARY:Craft 'N Chat
DESCRIPTION:<p>Join other adults for the library's crafting social hour.&nbsp; Meetings are on the second and fourth Mondays of the month, from 12 noon-1pm, in the Community Room.&nbsp; We will be painting Kindness Rocks and if you would like more information, please call the reference desk at 310-524-2728.</p>
X-ALT-DESC;FMTTYPE=text/html:<p>Join other adults for the library's crafting social hour.&nbsp; Meetings are on the second and fourth Mondays of the month, from 12 noon-1pm, in the Community Room.&nbsp; We will be painting Kindness Rocks and if you would like more information, please call the reference desk at 310-524-2728.</p>
LOCATION:
CLASS:PUBLIC
END:VEVENT
END:VCALENDAR
