BEGIN:VCALENDAR
VERSION:2.0
PRODID:El Segundo Libraries Calendar Creator
METHOD:PUBLISH
BEGIN:VEVENT
DTSTAMP:20220714T182512
DTSTART:20220721T160000
DTEND:20220721T170000
SUMMARY:Friends of the Library Business Meeting
DESCRIPTION:<p>Members of the Friends of the El Segundo Public Library meet to discuss library-related activities. The business meeting is held on the third Thursday of the month, on a bi-monthly basis--January, March, May, July, September and November. The business meetings are open to the public and everyone is welcome to attend.</p><p>Please note this meeting will be held via Zoom.</p><p>Join Zoom Meeting<br><a href="https://us06web.zoom.us/j/84928036550?pwd=dU5MQnZTQTZnN1pUMGR5c1NHRHZ1Zz09" target="_blank">https://us06web.zoom.us/j/84928036550?pwd=dU5MQnZTQTZnN1pUMGR5c1NHRHZ1Zz09</a>&nbsp;<br><br>Meeting ID: 849 2803 6550<br>Passcode: 814150<br>One tap mobile<br>+16694449171,,84928036550#,,,,*814150# US&nbsp;<br>+13462487799,,84928036550#,,,,*814150# US (Houston)<br><br>Dial by your location<br>&nbsp; &nbsp; &nbsp; &nbsp; +1 669 444 9171 US<br>&nbsp; &nbsp; &nbsp; &nbsp; +1 346 248 7799 US (Houston)<br>&nbsp; &nbsp; &nbsp; &nbsp; +1 720 707 2699 US (Denver)<br>&nbsp; &nbsp; &nbsp; &nbsp; +1 253 215 8782 US (Tacoma)<br>&nbsp; &nbsp; &nbsp; &nbsp; +1 646 558 8656 US (New York)<br>&nbsp; &nbsp; &nbsp; &nbsp; +1 646 931 3860 US<br>&nbsp; &nbsp; &nbsp; &nbsp; +1 301 715 8592 US (Washington DC)<br>&nbsp; &nbsp; &nbsp; &nbsp; +1 312 626 6799 US (Chicago)<br>Meeting ID: 849 2803 6550<br>Passcode: 814150<br><br><div></div></p>
X-ALT-DESC;FMTTYPE=text/html:<p>Members of the Friends of the El Segundo Public Library meet to discuss library-related activities. The business meeting is held on the third Thursday of the month, on a bi-monthly basis--January, March, May, July, September and November. The business meetings are open to the public and everyone is welcome to attend.</p><p>Please note this meeting will be held via Zoom.</p><p>Join Zoom Meeting<br><a href="https://us06web.zoom.us/j/84928036550?pwd=dU5MQnZTQTZnN1pUMGR5c1NHRHZ1Zz09" target="_blank">https://us06web.zoom.us/j/84928036550?pwd=dU5MQnZTQTZnN1pUMGR5c1NHRHZ1Zz09</a>&nbsp;<br><br>Meeting ID: 849 2803 6550<br>Passcode: 814150<br>One tap mobile<br>+16694449171,,84928036550#,,,,*814150# US&nbsp;<br>+13462487799,,84928036550#,,,,*814150# US (Houston)<br><br>Dial by your location<br>&nbsp; &nbsp; &nbsp; &nbsp; +1 669 444 9171 US<br>&nbsp; &nbsp; &nbsp; &nbsp; +1 346 248 7799 US (Houston)<br>&nbsp; &nbsp; &nbsp; &nbsp; +1 720 707 2699 US (Denver)<br>&nbsp; &nbsp; &nbsp; &nbsp; +1 253 215 8782 US (Tacoma)<br>&nbsp; &nbsp; &nbsp; &nbsp; +1 646 558 8656 US (New York)<br>&nbsp; &nbsp; &nbsp; &nbsp; +1 646 931 3860 US<br>&nbsp; &nbsp; &nbsp; &nbsp; +1 301 715 8592 US (Washington DC)<br>&nbsp; &nbsp; &nbsp; &nbsp; +1 312 626 6799 US (Chicago)<br>Meeting ID: 849 2803 6550<br>Passcode: 814150<br><br><div></div></p>
LOCATION:
CLASS:PUBLIC
END:VEVENT
END:VCALENDAR
