BEGIN:VCALENDAR
VERSION:2.0
PRODID:El Segundo Libraries Calendar Creator
METHOD:PUBLISH
BEGIN:VEVENT
DTSTAMP:20220725T094740
DTSTART:20220729T100000
DTEND:20220729T120000
SUMMARY:Harry Potter Day
DESCRIPTION:<p>Friday, July 29th&nbsp;<br>Sue Carter Community Room<br>Drop in crafts and scavenger hunt from 10:00 a.m. -&nbsp; 12:00 p.m. (while supplies last)</p><p>Followed by a magical movie at 2 p.m. about a boy wizard.<br><br>Come dressed as your favorite character!<br><br>Children under 8 must be accompanied by an adult. Movie is rated PG</p><p>For more information please call 310-524-2726</p>
X-ALT-DESC;FMTTYPE=text/html:<p>Friday, July 29th&nbsp;<br>Sue Carter Community Room<br>Drop in crafts and scavenger hunt from 10:00 a.m. -&nbsp; 12:00 p.m. (while supplies last)</p><p>Followed by a magical movie at 2 p.m. about a boy wizard.<br><br>Come dressed as your favorite character!<br><br>Children under 8 must be accompanied by an adult. Movie is rated PG</p><p>For more information please call 310-524-2726</p>
LOCATION:El Segundo Public Library\, 111 W. Mariposa Avenue El Segundo\, California 90245
CLASS:PUBLIC
END:VEVENT
END:VCALENDAR
