BEGIN:VCALENDAR
VERSION:2.0
PRODID:El Segundo Libraries Calendar Creator
METHOD:PUBLISH
BEGIN:VEVENT
DTSTAMP:20220713T151350
DTSTART:20220728T180000
DTEND:20220728T190000
SUMMARY:Lego Club
DESCRIPTION:<p>&nbsp;New Kids on the Club</p><p>A Lego building club designed for ages 5-12.</p><p>For more information contact 310-524-2726</p>
X-ALT-DESC;FMTTYPE=text/html:<p>&nbsp;New Kids on the Club</p><p>A Lego building club designed for ages 5-12.</p><p>For more information contact 310-524-2726</p>
LOCATION:El Segundo Public Library\, 111 W. Mariposa Avenue El Segundo\, California 90245
CLASS:PUBLIC
END:VEVENT
END:VCALENDAR
