BEGIN:VCALENDAR
VERSION:2.0
PRODID:El Segundo Libraries Calendar Creator
METHOD:PUBLISH
BEGIN:VEVENT
DTSTAMP:20220721T125335
DTSTART:20220727T153000
DTEND:20220727T163000
SUMMARY:Out of this World Storytime!
DESCRIPTION:<p>Join us on Wednesday, July 27th at 3:30 pm in Library Park for a space themed story, craft and&nbsp;<br>scavenger hunt!</p><p>Crafts are designed for ages 4-12 and available while supplies last.<br>Please bring a blanket or chair for your comfort. No registration required.</p>
X-ALT-DESC;FMTTYPE=text/html:<p>Join us on Wednesday, July 27th at 3:30 pm in Library Park for a space themed story, craft and&nbsp;<br>scavenger hunt!</p><p>Crafts are designed for ages 4-12 and available while supplies last.<br>Please bring a blanket or chair for your comfort. No registration required.</p>
LOCATION:Library Park\, 600 Block of Main Street El Segundo\, California 90245
CLASS:PUBLIC
END:VEVENT
END:VCALENDAR
