BEGIN:VCALENDAR
VERSION:2.0
PRODID:El Segundo Libraries Calendar Creator
METHOD:PUBLISH
BEGIN:VEVENT
DTSTAMP:20220719T102750
DTSTART:20220802T170000
DTEND:20220802T200000
SUMMARY:Catalytic Converter Etching
DESCRIPTION:<div>Catalytic converter etching will be available at National Night Out, August 2, 2022 at 5:00 p.m. - 8:00 p.m. Register soon because space is limited.</div><div>&nbsp;</div><div>We hope you’re able to join us!</div><div><a g5ia77u1="" qu0x051f="" esr5mh6w="" e9989ue4="" r7d6kgcz="" rq0escxv="" nhd2j8a9="" nc684nl6="" p7hjln8o="" kvgmc6g5="" cxmmr5t8="" oygrvhab="" hcukyx3x="" jb3vyjys="" rz4wbd8a="" qt6c0cv9="" a8nywdso="" i1ao9s8h="" esuyzwwr="" f1sip0of="" lzcic4wl="" gpro0wi8="" py34i1dx"="" href="https://www.eventbrite.com/e/383491963787?fbclid=IwAR0yOMbpyVvdr3w2LTVqTYfIBJ7WB7Zq03RQ8V26ObgYn19_r2g93VHxt_o" rel="nofollow noopener" role="link" tabindex="0" target="_blank">https://www.eventbrite.com/e/383491963787</a></div><div></div>
X-ALT-DESC;FMTTYPE=text/html:<div>Catalytic converter etching will be available at National Night Out, August 2, 2022 at 5:00 p.m. - 8:00 p.m. Register soon because space is limited.</div><div>&nbsp;</div><div>We hope you’re able to join us!</div><div><a g5ia77u1="" qu0x051f="" esr5mh6w="" e9989ue4="" r7d6kgcz="" rq0escxv="" nhd2j8a9="" nc684nl6="" p7hjln8o="" kvgmc6g5="" cxmmr5t8="" oygrvhab="" hcukyx3x="" jb3vyjys="" rz4wbd8a="" qt6c0cv9="" a8nywdso="" i1ao9s8h="" esuyzwwr="" f1sip0of="" lzcic4wl="" gpro0wi8="" py34i1dx"="" href="https://www.eventbrite.com/e/383491963787?fbclid=IwAR0yOMbpyVvdr3w2LTVqTYfIBJ7WB7Zq03RQ8V26ObgYn19_r2g93VHxt_o" rel="nofollow noopener" role="link" tabindex="0" target="_blank">https://www.eventbrite.com/e/383491963787</a></div><div></div>
LOCATION:
CLASS:PUBLIC
END:VEVENT
END:VCALENDAR
