BEGIN:VCALENDAR
VERSION:2.0
PRODID:El Segundo Libraries Calendar Creator
METHOD:PUBLISH
BEGIN:VEVENT
DTSTAMP:20220725T140704
DTSTART:20220802T170000
DTEND:20220802T200000
SUMMARY:National Night Out
DESCRIPTION:<p><iframe src="https://www.youtube.com/embed/MFREHQhQ1WA" width="400" allowfullscreen="" height="300" frameborder="0"></iframe>&nbsp;</p><p>Mark your calendars! We will be hosting our National Night Out event on August 2. Come out to the 300 block of Main Street from 5:00 p.m. - 8:00 p.m. and meet your El Segundo Police Department!</p><div>Catalytic converter etching will be available at National Night Out, August 2, 2022 at 5:00 p.m. - 8:00 p.m. Register soon because space is limited.<div></div></div><div>We hope you’re able to join us!</div><p>&nbsp;</p><div><a g5ia77u1="" qu0x051f="" esr5mh6w="" e9989ue4="" r7d6kgcz="" rq0escxv="" nhd2j8a9="" nc684nl6="" p7hjln8o="" kvgmc6g5="" cxmmr5t8="" oygrvhab="" hcukyx3x="" jb3vyjys="" rz4wbd8a="" qt6c0cv9="" a8nywdso="" i1ao9s8h="" esuyzwwr="" f1sip0of="" lzcic4wl="" gpro0wi8="" py34i1dx"="" href="https://www.eventbrite.com/e/383491963787?fbclid=IwAR0yOMbpyVvdr3w2LTVqTYfIBJ7WB7Zq03RQ8V26ObgYn19_r2g93VHxt_o" rel="nofollow noopener" role="link" tabindex="0" target="_blank">https://www.eventbrite.com/e/383491963787</a></div><p>&nbsp;</p>
X-ALT-DESC;FMTTYPE=text/html:<p><iframe src="https://www.youtube.com/embed/MFREHQhQ1WA" width="400" allowfullscreen="" height="300" frameborder="0"></iframe>&nbsp;</p><p>Mark your calendars! We will be hosting our National Night Out event on August 2. Come out to the 300 block of Main Street from 5:00 p.m. - 8:00 p.m. and meet your El Segundo Police Department!</p><div>Catalytic converter etching will be available at National Night Out, August 2, 2022 at 5:00 p.m. - 8:00 p.m. Register soon because space is limited.<div></div></div><div>We hope you’re able to join us!</div><p>&nbsp;</p><div><a g5ia77u1="" qu0x051f="" esr5mh6w="" e9989ue4="" r7d6kgcz="" rq0escxv="" nhd2j8a9="" nc684nl6="" p7hjln8o="" kvgmc6g5="" cxmmr5t8="" oygrvhab="" hcukyx3x="" jb3vyjys="" rz4wbd8a="" qt6c0cv9="" a8nywdso="" i1ao9s8h="" esuyzwwr="" f1sip0of="" lzcic4wl="" gpro0wi8="" py34i1dx"="" href="https://www.eventbrite.com/e/383491963787?fbclid=IwAR0yOMbpyVvdr3w2LTVqTYfIBJ7WB7Zq03RQ8V26ObgYn19_r2g93VHxt_o" rel="nofollow noopener" role="link" tabindex="0" target="_blank">https://www.eventbrite.com/e/383491963787</a></div><p>&nbsp;</p>
LOCATION:
CLASS:PUBLIC
END:VEVENT
END:VCALENDAR
