BEGIN:VCALENDAR
VERSION:2.0
PRODID:El Segundo Libraries Calendar Creator
METHOD:PUBLISH
BEGIN:VEVENT
DTSTAMP:20220705T110353
DTSTART:20220708T120000
DTEND:20220708T120000
SUMMARY:Environmental Committee Meeting
DESCRIPTION:<p style="text-align: center;"><strong>PUBLIC WORKS/ENVIRONMENTAL COMMITTEE<br>REGULAR MEETING<br>FRIDAY, JULY 8, 2022 AT NOON</strong></p>
X-ALT-DESC;FMTTYPE=text/html:<p style="text-align: center;"><strong>PUBLIC WORKS/ENVIRONMENTAL COMMITTEE<br>REGULAR MEETING<br>FRIDAY, JULY 8, 2022 AT NOON</strong></p>
LOCATION:350 Main Street (West Conference Room)\, 350 Main Street El Segundo\, California 90245
CLASS:PUBLIC
END:VEVENT
END:VCALENDAR
