BEGIN:VCALENDAR
VERSION:2.0
PRODID:El Segundo Libraries Calendar Creator
METHOD:PUBLISH
BEGIN:VEVENT
DTSTAMP:20220621T093143
DTSTART:20220628T183000
DTEND:20220628T203000
SUMMARY:Downtown Specific Plan Community Workshop
DESCRIPTION:<div align="center"><table border="0" cellspacing="0" cellpadding="0" width="100%">    <tbody>        <tr>            <td width="100%">            <table border="0" cellspacing="0" cellpadding="0" width="100%">                <tbody>                    <tr>                        <td>                        <p align="center"><a href="https://nam12.safelinks.protection.outlook.com/?url=https%3A%2F%2Flnks.gd%2Fl%2FeyJhbGciOiJIUzI1NiJ9.eyJidWxsZXRpbl9saW5rX2lkIjoxMDEsInVyaSI6ImJwMjpjbGljayIsImJ1bGxldGluX2lkIjoiMjAyMjA2MjEuNTk2ODI4NTEiLCJ1cmwiOiJodHRwczovL3d3dy5lbHNlZ3VuZG8ub3JnL2dvdmVybm1lbnQvZGVwYXJ0bWVudHMvZGV2ZWxvcG1lbnQtc2VydmljZXMvcGxhbm5pbmctZGl2aXNpb24vZG93bnRvd24tc3BlY2lmaWMtcGxhbi11cGRhdGU_dXRtX21lZGl1bT1lbWFpbCZ1dG1fc291cmNlPWdvdmRlbGl2ZXJ5In0.d2AijkbhvbyCGs1c8PHh4gUNh1PMKlDZh5QqmtJte-I%2Fs%2F1858759200%2Fbr%2F133349087597-l&amp;data=05%7C01%7C%7C4088bbfbef964603cdea08da539d959c%7C84df9e7fe9f640afb435aaaaaaaaaaaa%7C1%7C0%7C637914233535251876%7CUnknown%7CTWFpbGZsb3d8eyJWIjoiMC4wLjAwMDAiLCJQIjoiV2luMzIiLCJBTiI6Ik1haWwiLCJXVCI6Mn0%3D%7C3000%7C%7C%7C&amp;sdata=eq9Rn4xCegMCgVBjDiVX%2B223zfvWUK%2BX%2B7gw7ApB%2FvE%3D&amp;reserved=0" target="_blank" title="Downtown Specific Plan Update Page"></a></p>                        </td>                    </tr>                </tbody>            </table>            <h3>Join us for a conversation about the Downtown Specific Plan!</h3>            <p>On <strong>Tuesday, June 28<sup>th</sup></strong>, the Development Services Department will hold a virtual community workshop to hear from the public about the future of the Downtown area. Those wishing to participate in this meeting can attend via Zoom using the login information below.</p>            <h3><strong>When:</strong></h3>            <p>Tuesday, <strong>June 28, 2022</strong> at 6:30 p.m. - 8:30 p.m.</p>            <h3><strong>Where:</strong></h3>            <p>Virtual Meeting - Zoom</p>            <h3><strong>Virtual Access:</strong></h3>            <p><a href="https://nam12.safelinks.protection.outlook.com/?url=https%3A%2F%2Flnks.gd%2Fl%2FeyJhbGciOiJIUzI1NiJ9.eyJidWxsZXRpbl9saW5rX2lkIjoxMDIsInVyaSI6ImJwMjpjbGljayIsImJ1bGxldGluX2lkIjoiMjAyMjA2MjEuNTk2ODI4NTEiLCJ1cmwiOiJodHRwczovL3JybWRlc2lnbi56b29tLnVzL2ovODIyMzMyNzU2MDc_cHdkPU5YZFhjVzFIVUdseVVteG5OM0Z5WkhCMGNFTlVaejA5JnV0bV9tZWRpdW09ZW1haWwmdXRtX3NvdXJjZT1nb3ZkZWxpdmVyeSNzdWNjZXNzIn0.Vww-UI6cP49hUsxAmTO53xXIGF9URl7GKcxxnTNF8f4%2Fs%2F1858759200%2Fbr%2F133349087597-l&amp;data=05%7C01%7C%7C4088bbfbef964603cdea08da539d959c%7C84df9e7fe9f640afb435aaaaaaaaaaaa%7C1%7C0%7C637914233535251876%7CUnknown%7CTWFpbGZsb3d8eyJWIjoiMC4wLjAwMDAiLCJQIjoiV2luMzIiLCJBTiI6Ik1haWwiLCJXVCI6Mn0%3D%7C3000%7C%7C%7C&amp;sdata=y%2FkZOaC48E35C0iWZJNmqW%2BhTbhgyWR8iY%2B1Rc0QZfg%3D&amp;reserved=0" target="_blank" title="Downtown Update Community Meeting Zoom Link">Click here for Zoom link.</a></p>            <p>Meeting ID: 822 3327 5607</p>            <p>Passcode: 353138</p>            <p>Dial In: +1669 900-6833</p>            <table border="0" cellspacing="0" cellpadding="0" width="100%">                <tbody>                    <tr>                        <td width="173">                        <p></p>                        </td>                        <td width="4"></td>                        <td>                        <p><strong>Take a quick online questionnaire!</strong></p>                        <p>We'd love to hear your ideas about our downtown. Please take a moment to respond to our questionnaire by clicking this<a href="https://nam12.safelinks.protection.outlook.com/?url=https%3A%2F%2Flnks.gd%2Fl%2FeyJhbGciOiJIUzI1NiJ9.eyJidWxsZXRpbl9saW5rX2lkIjoxMDMsInVyaSI6ImJwMjpjbGljayIsImJ1bGxldGluX2lkIjoiMjAyMjA2MjEuNTk2ODI4NTEiLCJ1cmwiOiJodHRwczovL3JybS5teXNvY2lhbHBpbnBvaW50LmNvbS9lbC1zZWd1bmRvLWRvd250b3duLXNwZWNpZmljLXBsYW4_dXRtX21lZGl1bT1lbWFpbCZ1dG1fc291cmNlPWdvdmRlbGl2ZXJ5In0.XRBOKQmRqYcW0N7ALsGPP4EocFa0LDrNKfP-O3PfAfQ%2Fs%2F1858759200%2Fbr%2F133349087597-l&amp;data=05%7C01%7C%7C4088bbfbef964603cdea08da539d959c%7C84df9e7fe9f640afb435aaaaaaaaaaaa%7C1%7C0%7C637914233535251876%7CUnknown%7CTWFpbGZsb3d8eyJWIjoiMC4wLjAwMDAiLCJQIjoiV2luMzIiLCJBTiI6Ik1haWwiLCJXVCI6Mn0%3D%7C3000%7C%7C%7C&amp;sdata=oDSPGu2jLpe1IN%2B30%2BLQ%2FO5vESmmeOyDi3Cur3AedjA%3D&amp;reserved=0" target="_blank">link</a>or scanning the QR code with your smartphone or tablet camera.The questionnaire will be available until<strong>July 8, 2022</strong>.</p>                        </td>                    </tr>                </tbody>            </table>            </td>        </tr>        <tr>            <td width="100%">            <h2>For More Information</h2>            <p>For more information about the Downtown Specific Plan Update process, please visit the City's special dedicated webpage <a href="https://nam12.safelinks.protection.outlook.com/?url=https%3A%2F%2Flnks.gd%2Fl%2FeyJhbGciOiJIUzI1NiJ9.eyJidWxsZXRpbl9saW5rX2lkIjoxMDQsInVyaSI6ImJwMjpjbGljayIsImJ1bGxldGluX2lkIjoiMjAyMjA2MjEuNTk2ODI4NTEiLCJ1cmwiOiJodHRwczovL3d3dy5lbHNlZ3VuZG8ub3JnL2dvdmVybm1lbnQvZGVwYXJ0bWVudHMvZGV2ZWxvcG1lbnQtc2VydmljZXMvcGxhbm5pbmctZGl2aXNpb24vZG93bnRvd24tc3BlY2lmaWMtcGxhbi11cGRhdGU_dXRtX21lZGl1bT1lbWFpbCZ1dG1fc291cmNlPWdvdmRlbGl2ZXJ5In0.LEQDRqAHEsNzyNGJPuZY7jNbEOgplkEnTxSUrpSDu1c%2Fs%2F1858759200%2Fbr%2F133349087597-l&amp;data=05%7C01%7C%7C4088bbfbef964603cdea08da539d959c%7C84df9e7fe9f640afb435aaaaaaaaaaaa%7C1%7C0%7C637914233535251876%7CUnknown%7CTWFpbGZsb3d8eyJWIjoiMC4wLjAwMDAiLCJQIjoiV2luMzIiLCJBTiI6Ik1haWwiLCJXVCI6Mn0%3D%7C3000%7C%7C%7C&amp;sdata=NCoYSahyZ7S8t190yvDZPQl%2FPTuqAisRAD2JV7i6OuE%3D&amp;reserved=0" target="_blank" title="Downtown Specific Plan Update Page">here</a>.</p>            <p>If you have any questions, please <a href="mailto:psamaras@elsegundo.org" target="_blank" title="Paul Samaras Email">email Paul Samaras</a>, Principal Planner with the City of El Segundo or call at 310-524-2340</p>            </td>        </tr>    </tbody></table></div>
X-ALT-DESC;FMTTYPE=text/html:<div align="center"><table border="0" cellspacing="0" cellpadding="0" width="100%">    <tbody>        <tr>            <td width="100%">            <table border="0" cellspacing="0" cellpadding="0" width="100%">                <tbody>                    <tr>                        <td>                        <p align="center"><a href="https://nam12.safelinks.protection.outlook.com/?url=https%3A%2F%2Flnks.gd%2Fl%2FeyJhbGciOiJIUzI1NiJ9.eyJidWxsZXRpbl9saW5rX2lkIjoxMDEsInVyaSI6ImJwMjpjbGljayIsImJ1bGxldGluX2lkIjoiMjAyMjA2MjEuNTk2ODI4NTEiLCJ1cmwiOiJodHRwczovL3d3dy5lbHNlZ3VuZG8ub3JnL2dvdmVybm1lbnQvZGVwYXJ0bWVudHMvZGV2ZWxvcG1lbnQtc2VydmljZXMvcGxhbm5pbmctZGl2aXNpb24vZG93bnRvd24tc3BlY2lmaWMtcGxhbi11cGRhdGU_dXRtX21lZGl1bT1lbWFpbCZ1dG1fc291cmNlPWdvdmRlbGl2ZXJ5In0.d2AijkbhvbyCGs1c8PHh4gUNh1PMKlDZh5QqmtJte-I%2Fs%2F1858759200%2Fbr%2F133349087597-l&amp;data=05%7C01%7C%7C4088bbfbef964603cdea08da539d959c%7C84df9e7fe9f640afb435aaaaaaaaaaaa%7C1%7C0%7C637914233535251876%7CUnknown%7CTWFpbGZsb3d8eyJWIjoiMC4wLjAwMDAiLCJQIjoiV2luMzIiLCJBTiI6Ik1haWwiLCJXVCI6Mn0%3D%7C3000%7C%7C%7C&amp;sdata=eq9Rn4xCegMCgVBjDiVX%2B223zfvWUK%2BX%2B7gw7ApB%2FvE%3D&amp;reserved=0" target="_blank" title="Downtown Specific Plan Update Page"></a></p>                        </td>                    </tr>                </tbody>            </table>            <h3>Join us for a conversation about the Downtown Specific Plan!</h3>            <p>On <strong>Tuesday, June 28<sup>th</sup></strong>, the Development Services Department will hold a virtual community workshop to hear from the public about the future of the Downtown area. Those wishing to participate in this meeting can attend via Zoom using the login information below.</p>            <h3><strong>When:</strong></h3>            <p>Tuesday, <strong>June 28, 2022</strong> at 6:30 p.m. - 8:30 p.m.</p>            <h3><strong>Where:</strong></h3>            <p>Virtual Meeting - Zoom</p>            <h3><strong>Virtual Access:</strong></h3>            <p><a href="https://nam12.safelinks.protection.outlook.com/?url=https%3A%2F%2Flnks.gd%2Fl%2FeyJhbGciOiJIUzI1NiJ9.eyJidWxsZXRpbl9saW5rX2lkIjoxMDIsInVyaSI6ImJwMjpjbGljayIsImJ1bGxldGluX2lkIjoiMjAyMjA2MjEuNTk2ODI4NTEiLCJ1cmwiOiJodHRwczovL3JybWRlc2lnbi56b29tLnVzL2ovODIyMzMyNzU2MDc_cHdkPU5YZFhjVzFIVUdseVVteG5OM0Z5WkhCMGNFTlVaejA5JnV0bV9tZWRpdW09ZW1haWwmdXRtX3NvdXJjZT1nb3ZkZWxpdmVyeSNzdWNjZXNzIn0.Vww-UI6cP49hUsxAmTO53xXIGF9URl7GKcxxnTNF8f4%2Fs%2F1858759200%2Fbr%2F133349087597-l&amp;data=05%7C01%7C%7C4088bbfbef964603cdea08da539d959c%7C84df9e7fe9f640afb435aaaaaaaaaaaa%7C1%7C0%7C637914233535251876%7CUnknown%7CTWFpbGZsb3d8eyJWIjoiMC4wLjAwMDAiLCJQIjoiV2luMzIiLCJBTiI6Ik1haWwiLCJXVCI6Mn0%3D%7C3000%7C%7C%7C&amp;sdata=y%2FkZOaC48E35C0iWZJNmqW%2BhTbhgyWR8iY%2B1Rc0QZfg%3D&amp;reserved=0" target="_blank" title="Downtown Update Community Meeting Zoom Link">Click here for Zoom link.</a></p>            <p>Meeting ID: 822 3327 5607</p>            <p>Passcode: 353138</p>            <p>Dial In: +1669 900-6833</p>            <table border="0" cellspacing="0" cellpadding="0" width="100%">                <tbody>                    <tr>                        <td width="173">                        <p></p>                        </td>                        <td width="4"></td>                        <td>                        <p><strong>Take a quick online questionnaire!</strong></p>                        <p>We'd love to hear your ideas about our downtown. Please take a moment to respond to our questionnaire by clicking this<a href="https://nam12.safelinks.protection.outlook.com/?url=https%3A%2F%2Flnks.gd%2Fl%2FeyJhbGciOiJIUzI1NiJ9.eyJidWxsZXRpbl9saW5rX2lkIjoxMDMsInVyaSI6ImJwMjpjbGljayIsImJ1bGxldGluX2lkIjoiMjAyMjA2MjEuNTk2ODI4NTEiLCJ1cmwiOiJodHRwczovL3JybS5teXNvY2lhbHBpbnBvaW50LmNvbS9lbC1zZWd1bmRvLWRvd250b3duLXNwZWNpZmljLXBsYW4_dXRtX21lZGl1bT1lbWFpbCZ1dG1fc291cmNlPWdvdmRlbGl2ZXJ5In0.XRBOKQmRqYcW0N7ALsGPP4EocFa0LDrNKfP-O3PfAfQ%2Fs%2F1858759200%2Fbr%2F133349087597-l&amp;data=05%7C01%7C%7C4088bbfbef964603cdea08da539d959c%7C84df9e7fe9f640afb435aaaaaaaaaaaa%7C1%7C0%7C637914233535251876%7CUnknown%7CTWFpbGZsb3d8eyJWIjoiMC4wLjAwMDAiLCJQIjoiV2luMzIiLCJBTiI6Ik1haWwiLCJXVCI6Mn0%3D%7C3000%7C%7C%7C&amp;sdata=oDSPGu2jLpe1IN%2B30%2BLQ%2FO5vESmmeOyDi3Cur3AedjA%3D&amp;reserved=0" target="_blank">link</a>or scanning the QR code with your smartphone or tablet camera.The questionnaire will be available until<strong>July 8, 2022</strong>.</p>                        </td>                    </tr>                </tbody>            </table>            </td>        </tr>        <tr>            <td width="100%">            <h2>For More Information</h2>            <p>For more information about the Downtown Specific Plan Update process, please visit the City's special dedicated webpage <a href="https://nam12.safelinks.protection.outlook.com/?url=https%3A%2F%2Flnks.gd%2Fl%2FeyJhbGciOiJIUzI1NiJ9.eyJidWxsZXRpbl9saW5rX2lkIjoxMDQsInVyaSI6ImJwMjpjbGljayIsImJ1bGxldGluX2lkIjoiMjAyMjA2MjEuNTk2ODI4NTEiLCJ1cmwiOiJodHRwczovL3d3dy5lbHNlZ3VuZG8ub3JnL2dvdmVybm1lbnQvZGVwYXJ0bWVudHMvZGV2ZWxvcG1lbnQtc2VydmljZXMvcGxhbm5pbmctZGl2aXNpb24vZG93bnRvd24tc3BlY2lmaWMtcGxhbi11cGRhdGU_dXRtX21lZGl1bT1lbWFpbCZ1dG1fc291cmNlPWdvdmRlbGl2ZXJ5In0.LEQDRqAHEsNzyNGJPuZY7jNbEOgplkEnTxSUrpSDu1c%2Fs%2F1858759200%2Fbr%2F133349087597-l&amp;data=05%7C01%7C%7C4088bbfbef964603cdea08da539d959c%7C84df9e7fe9f640afb435aaaaaaaaaaaa%7C1%7C0%7C637914233535251876%7CUnknown%7CTWFpbGZsb3d8eyJWIjoiMC4wLjAwMDAiLCJQIjoiV2luMzIiLCJBTiI6Ik1haWwiLCJXVCI6Mn0%3D%7C3000%7C%7C%7C&amp;sdata=NCoYSahyZ7S8t190yvDZPQl%2FPTuqAisRAD2JV7i6OuE%3D&amp;reserved=0" target="_blank" title="Downtown Specific Plan Update Page">here</a>.</p>            <p>If you have any questions, please <a href="mailto:psamaras@elsegundo.org" target="_blank" title="Paul Samaras Email">email Paul Samaras</a>, Principal Planner with the City of El Segundo or call at 310-524-2340</p>            </td>        </tr>    </tbody></table></div>
LOCATION:
CLASS:PUBLIC
END:VEVENT
END:VCALENDAR
